Workbook

Sheet MENU
B1: QUALIFICAÇÃO DE FORNECEDORES SUPPLIER QUALIFICATION | C1: RQ-COR-GQ-13
C3: Revisão 03
A8: FORNECEDORES DE PRODUTOS
A9: 2.1 FORNECEDORES DE PRODUTOS 2.1 PRODUCT SUPPLIER
A23: FORNECEDORES DE SERVIÇOS
A24: 2.2 FORNECEDORES DE SERVIÇOS 2.2 SERVICE SUPPLIER

Sheet ORIENTAÇÕES_GENERAL
B1: QUALIFICAÇÃO DE FORNECEDORES - ORIENTAÇÕES GERAIS SUPPLIER QUALIFICATION- GENERAL GUIDELINES | D1: RQ-COR-GQ-13
D3: Revisão 03
A6: Prezado Fornecedor / Dear Supplier
A8: Este Questionário de Avaliação faz parte do Sistema de Qualificação de Fornecedores da ICC Brazil.
A9: This questionnaire is part of ICC Brazil Supplier Qualification Process
A11: Este questionário deve ser preenchido para cada planta fornecedora /fabricante. Quando a empresa fornecer mais de um produto, deve ser enviado um questionário para cada produto fornecido.
A12: This questionnaire must be filled out to each supplier plant / When the company supplies more than one product, it must be filled ou to each product.
A14: Se a empresa for fornecedora de produtos: preencha alguma das categorias do itens 2.1 no menu inicial
A15: If the company supplies products: Fill the related category of item 2.1 in the main menu
A17: NOTA: As questões devem ser preenchidas pela empresa fabricante do produto, estas informações não são de responsabilidade do distrubuidor. Portanto, o distribuidor precisa direcionar estas documento para o fabricante.
A18: NOTE: These questions must be filled out by the manufacturer company, these information are not responsibility of the distributor. Therefore the distributor have to send this document to the manufacturer.
A20: Se a empresa for fornecedora de serviço: preencha alguma das categorias do item do itens 2.2 no menu inicial
A21: If the company supplies a service: Fill the related category of the item 2.2 in the main menu
A23: A devolução deste questionário preenchido e dos documentos solicitados deve ocorrem no prazo de até 10 dias úteis após o recebimento.
... A32: We are available for any clarification and appreciate the collaboration in advance.
C37: Departamento de Qualidade ICC Brazil
C38: Quality Department ICC Brazil

Sheet MATÉRIA-PRIMA_RAW MATERIAL
C1: QUALIFICAÇÃO DE FORNECEDORES - MATERIA-PRIMA (LEVEDURA) E PRODUTOS IMPORTADOS QUALIFICATION OF SUPPLIERS - RAW MATERIAL (YEAST) AND IMPORTED PRODUCTS | J1: RQ-COR-GQ-13
J3: Revisão 03
B5: Para efetuar o preenchimento do formulário em inglês, solicitamos que selecione o botão abaixo./To fill out the form in English, we kindly request that you select the button below.
J10: FALSE
B11: =IF($J$10=TRUE,"Corporate Name:","Razão Social:") -> Razão Social:
B12: =IF($J$10=TRUE,"Fantasy Name:","Nome Fantasia:") -> Nome Fantasia:
B13: =IF($J$10=TRUE,"TIN:","CNPJ:") -> CNPJ:
B14: =IF($J$10=TRUE,"Adress:","Endereço:") -> Endereço:
B15: =IF($J$10=TRUE,"Product supplied to ICC Brazil:","Produto (s) fornecido (s) para a ICC:") -> Produto (s) fornecido (s) para a ICC:
B16: =IF($J$10=TRUE,"Yeast species and strain","Código da CEPA:") -> Código da CEPA:
B17: =IF($J$10=TRUE,"CEO:","Responsável Técnico:") -> Responsável Técnico:
C23: =IF($J$10=TRUE,"Please select the submitted documents below","Selecione abaixo os documentos enviados.") -> Selecione abaixo os documentos enviados.
C24: =IF($J$10=TRUE,"REQUIREMENT","REQUISITO") -> REQUISITO | D24: =IF($J$10=TRUE,"SENT","ENVIADO") -> ENVIADO | F24: =IF($J$10=TRUE,"DOCUMENTS","DOCUMENTOS") -> DOCUMENTOS
C25: =IF($J$10=TRUE,"Mandatory","Obrigatório") -> Obrigatório | F25: =IF($J$10=TRUE,"Product registration with the Responsible Organ of the country of origin","Registro do produto junto ao órgão responsável") -> Registro do produto junto ao órgão responsável
C26: =IF($J$10=TRUE,"Mandatory","Obrigatório") -> Obrigatório | F26: =IF($J$10=TRUE,"Proof of company registration with regulatory agencies","Comprovante de registro da empresa junto aos órgãos reguladores") -> Comprovante de registro da empresa junto aos órgãos reguladores
C27: =IF($J$10=TRUE,"Mandatory","Obrigatório") -> Obrigatório | F27: =IF($J$10=TRUE,"Technical Specification Sheet (TS)","Ficha de Especificações Técnicas") -> Ficha de Especificações Técnicas
C28: =IF($J$10=TRUE,"Mandatory","Obrigatório") -> Obrigatório | F28: =IF($J$10=TRUE,"Material Safety Data Sheet (MSDS)","FISPQ") -> FISPQ
C29: =IF($J$10=TRUE,"Mandatory","Obrigatório") -> Obrigatório | F29: =IF($J$10=TRUE,"Product Flowchart (including PCCs)","Fluxograma do Produto (incluindo PCCs)") -> Fluxograma do Produto (incluindo PCCs)
C30: =IF($J$10=TRUE,"Mandatory","Obrigatório") -> Obrigatório | F30: =IF($J$10=TRUE,"GMP (Good Manufacturer Practices) Plan","Plano BPF (Boas Práticas de Fabricação)") -> Plano BPF (Boas Práticas de Fabricação)
C31: =IF($J$10=TRUE,"Mandatory","Obrigatório") -> Obrigatório | F31: =IF($J$10=TRUE,"HACCP Plan","Plano APPCC") -> Plano APPCC
C32: =IF($J$10=TRUE,"Mandatory","Obrigatório") -> Obrigatório | F32: =IF($J$10=TRUE,"Allergenic Declaration","Declaração de produto livre de alergênicos") -> Declaração de produto livre de alergênicos
C33: =IF($J$10=TRUE,"Mandatory","Obrigatório") -> Obrigatório | F33: =IF($J$10=TRUE,"Declaration of absence of products of animal origin","Declaração de ausência de produtos de origem animal;") -> Declaração de ausência de produtos de origem animal;
C34: =IF($J$10=TRUE,"Mandatory","Obrigatório") -> Obrigatório | F34: =IF($J$10=TRUE,"Vegetable Origin - Statement","Declaração de origem vegetal") -> Declaração de origem vegetal
C35: =IF($J$10=TRUE,"Mandatory","Obrigatório") -> Obrigatório | F35: =IF($J$10=TRUE,"GMO Absecence/Presence - Statement","Declaração de ausência de GMO;") -> Declaração de ausência de GMO;
C36: =IF($J$10=TRUE,"Mandatory","Obrigatório") -> Obrigatório | F36: =IF($J$10=TRUE,"Coccidiostats last report","Declaração de produto livre de coccidiostáticos") -> Declaração de produto livre de coccidiostáticos
C37: =IF($J$10=TRUE,"Mandatory","Obrigatório") -> Obrigatório | F37: =IF($J$10=TRUE,"Ractopamin absence/presence - Statement","Declaração de ausência de ractopamina") -> Declaração de ausência de ractopamina
C38: =IF($J$10=TRUE,"Mandatory","Obrigatório") -> Obrigatório | F38: =IF($J$10=TRUE,"Etoxiquim absecece/presence - Statement","Declaração de Ausência/presença de etoxiquim") -> Declaração de Ausência/presença de etoxiquim
C39: =IF($J$10=TRUE,"Mandatory","Obrigatório") -> Obrigatório | F39: =IF($J$10=TRUE,"Quality plan of the product provided describing the analysis performed, frequency, specifications, methodology used (reference)","Plano da qualidade para o produto acabado fornecido descrevendo as análises realizadas, frequência, especificações, Metodologia (referência)") -> Plano da qualidade para o produto acabado fornecido descrevendo as análises realizadas, frequência, especificações, Metodologia (referência)
C40: =IF($J$10=TRUE,"Mandatory","Obrigatório") -> Obrigatório | F40: =IF($J$10=TRUE,"Microbiology last report (mesophilic bacteria, enterobacteriaceae, molds and yeasts, E.coli and Salmonella)","Último laudo de microbiologia (bactérias mesófilas, enterobactérias, bolores e leveduras, E.coli e Salmonella)") -> Último laudo de microbiologia (bactérias mesófilas, enterobactérias, bolores e leveduras, E.coli e Salmonella)
C41: =IF($J$10=TRUE,"Mandatory","Obrigatório") -> Obrigatório | F41: =IF($J$10=TRUE,"Heavy Metals last report (Arsenio, lead, mercury and cadmium)","Último laudo de metais pesados (arsênio, chumbo, mercúrio e cádmio)") -> Último laudo de metais pesados (arsênio, chumbo, mercúrio e cádmio)
C42: =IF($J$10=TRUE,"Mandatory","Obrigatório") -> Obrigatório | F42: =IF($J$10=TRUE," Dioxins, Furans and PCBs last report","Último laudo de dioxinas, furanos e PCBs") -> Último laudo de dioxinas, furanos e PCBs
C43: =IF($J$10=TRUE,"Mandatory","Obrigatório") -> Obrigatório | F43: =IF($J$10=TRUE,"Mycotoxins last report (aflatoxins B1, B2 and G1, G2)","Último relatório de micotoxinas (aflatoxinas B1, B2 e G1, G2)") -> Último relatório de micotoxinas (aflatoxinas B1, B2 e G1, G2)
C44: =IF($J$10=TRUE,"Mandatory","Obrigatório") -> Obrigatório | F44: =IF($J$10=TRUE,"Melamine last report","Último laudo de melamina") -> Último laudo de melamina
C45: =IF($J$10=TRUE,"Mandatory","Obrigatório") -> Obrigatório | F45: =IF($J$10=TRUE,"Pesticides last report (organochlorines, organophosphates and carbamates)","Último laudo de pesticidas (organoclorados, organofosforados e carbamatos)") -> Último laudo de pesticidas (organoclorados, organofosforados e carbamatos)
C46: =IF($J$10=TRUE,"Differencial","Diferencial") -> Diferencial | F46: =IF($J$10=TRUE,"Food Safety Certificates (e.g., GMP+FSA, FSSC 22000, FAMI QS, BRC...)","Certificados de Segurança de Alimentos (por exemplo, GMP+FSA, FSSC 22000, FAMI QS, BRC...)") -> Certificados de Segurança de Alimentos (por exemplo, GMP+FSA, FSSC 22000, FAMI QS, BRC...)
B53: =IF($J$10=TRUE,"Product Information","Informação do Produto ") -> Informação do Produto
B54: =IF($J$10=TRUE,"Composition:","Composição:") -> Composição:
B55: =IF($J$10=TRUE,"Origin:","Origem:") -> Origem:
B56: =IF($J$10=TRUE,"Shelf Life and Storage Conditions:","Prazo de validade e condições de armazenamento:") -> Prazo de validade e condições de armazenamento:
B57: =IF($J$10=TRUE,"Requisitos regulamentares:","")
...

Sheet MATERIA-PRIMA (OUTROS) 
C1: QUALIFICAÇÃO DE FORNECEDORES - MATERIA-PRIMA (OUTROS) QUALIFICATION OF SUPPLIERS - RAW MATERIALS (OTHERS) | J1: RQ-COR-GQ-13
J3: Revisão 03
B5: Para efetuar o preenchimento do formulário em inglês, solicitamos que selecione o botão abaixo./To fill out the form in English, we kindly request that you select the button below.
J10: TRUE
B11: =IF($J$10=TRUE,"Corporate Name:","Razão Social:") -> Corporate Name:
B12: =IF($J$10=TRUE,"Fantasy Name:","Nome Fantasia:") -> Fantasy Name:
B13: =IF($J$10=TRUE,"TIN:","CNPJ:") -> TIN:
B14: =IF($J$10=TRUE,"Adress:","Endereço:") -> Adress:
B15: =IF($J$10=TRUE,"Product supplied to ICC Brazil:","Produto (s) fornecido (s) para a ICC:") -> Product supplied to ICC Brazil:
B16: =IF($J$10=TRUE,"Yeast species and strain","Código da CEPA:") -> Yeast species and strain
B17: =IF($J$10=TRUE,"CEO:","Responsável Técnico:") -> CEO:
C22: =IF($J$10=TRUE,"Please select the submitted documents below","Selecione abaixo os documentos enviados.") -> Please select the submitted documents below
C23: =IF($J$10=TRUE,"REQUIREMENT","REQUISITO") -> REQUIREMENT | D23: =IF($J$10=TRUE,"SENT","ENVIADO") -> SENT | F23: =IF($J$10=TRUE,"DOCUMENTS","DOCUMENTOS") -> DOCUMENTS
C24: =IF($J$10=TRUE,"Mandatory","Obrigatório") -> Mandatory | F24: =IF($J$10=TRUE,"Product registration with the Responsible Organ of the country of origin","Registro do produto junto ao órgão responsável") -> Product registration with the Responsible Organ of the country of origin
C25: =IF($J$10=TRUE,"Mandatory","Obrigatório") -> Mandatory | F25: =IF($J$10=TRUE,"Proof of company registration with regulatory agencies","Comprovante de registro da empresa junto aos órgãos reguladores") -> Proof of company registration with regulatory agencies
C26: =IF($J$10=TRUE,"Mandatory","Obrigatório") -> Mandatory | F26: =IF($J$10=TRUE,"Technical Specification Sheet (TS)","Ficha de Especificações Técnicas") -> Technical Specification Sheet (TS)
C27: =IF($J$10=TRUE,"Mandatory","Obrigatório") -> Mandatory | F27: =IF($J$10=TRUE,"Material Safety Data Sheet (MSDS)","FISPQ") -> Material Safety Data Sheet (MSDS)
C28: =IF($J$10=TRUE,"Mandatory","Obrigatório") -> Mandatory | F28: =IF($J$10=TRUE,"Product Flowchart (including PCCs)","Fluxograma do Produto (incluindo PCCs)") -> Product Flowchart (including PCCs)
C29: =IF($J$10=TRUE,"Mandatory","Obrigatório") -> Mandatory | F29: =IF($J$10=TRUE,"GMP (Good Manufacturer Practices) Plan","Plano BPF (Boas Práticas de Fabricação)") -> GMP (Good Manufacturer Practices) Plan
C30: =IF($J$10=TRUE,"Mandatory","Obrigatório") -> Mandatory | F30: =IF($J$10=TRUE,"Heavy Metals last report (Arsenio, lead, mercury and cadmium)","Último relatório de metais pesados (arsênio, chumbo, mercúrio e cádmio)") -> Heavy Metals last report (Arsenio, lead, mercury and cadmium)
C31: =IF($J$10=TRUE,"Mandatory","Obrigatório") -> Mandatory | F31: =IF($J$10=TRUE,"Declaration of absence of products of animal origin","Declaração de ausência de produtos de origem animal (português e inglês);") -> Declaration of absence of products of animal origin
C32: =IF($J$10=TRUE,"Mandatory","Obrigatório") -> Mandatory | F32: =IF($J$10=TRUE,"GMO Absecence/Presence - Statement","Declaração de ausência de GMO;") -> GMO Absecence/Presence - Statement
C33: =IF($J$10=TRUE,"Mandatory","Obrigatório") -> Mandatory | F33: =IF($J$10=TRUE,"Coccidiostats last report","Declaração de produto livre de coccidiostáticos") -> Coccidiostats last report
C34: =IF($J$10=TRUE,"Mandatory","Obrigatório") -> Mandatory | F34: =IF($J$10=TRUE,"Ractopamin absence/presence - Statement","Declaração de ausência de ractopamina") -> Ractopamin absence/presence - Statement
C35: =IF($J$10=TRUE,"Mandatory","Obrigatório") -> Mandatory | F35: =IF($J$10=TRUE,"Allergenic Declaration","Declaração de produto livre de alergênicos") -> Allergenic Declaration
C36: =IF($J$10=TRUE,"Mandatory","Obrigatório") -> Mandatory | F36: =IF($J$10=TRUE,"Declaration of non-toxicity on the packaging used;","Laudo ou declaração de atoxidade nas embalagens utilizadas;") -> Declaration of non-toxicity on the packaging used;
C37: =IF($J$10=TRUE,"Mandatory","Obrigatório") -> Mandatory | F37: =IF($J$10=TRUE,"Quality plan of the product provided describing the analysis performed, frequency, specifications, methodology used (reference)","Plano da qualidade para o produto acabado fornecido descrevendo as análises realizadas, frequência, especificações, Metodologia (referência)") -> Quality plan of the product provided describing the analysis performed, frequency, specifications, methodology used (reference)
C38: =IF($J$10=TRUE,"Mandatory","Obrigatório") -> Mandatory | F38: =IF($J$10=TRUE," Dioxins, Furans and PCBs last report","Último relatório sobre dioxinas, furanos e PCBs") -> Dioxins, Furans and PCBs last report
C39: =IF($J$10=TRUE,"Mandatory","Obrigatório") -> Mandatory | F39: =IF($J$10=TRUE,"Mycotoxins last report (aflatoxins B1, B2 and G1, G2)","Último relatório de micotoxinas (aflatoxinas B1, B2 e G1, G2)") -> Mycotoxins last report (aflatoxins B1, B2 and G1, G2)
C40: =IF($J$10=TRUE,"Mandatory","Obrigatório") -> Mandatory | F40: =IF($J$10=TRUE,"Microbiology last report (mesophilic bacteria, enterobacteriaceae, molds and yeasts, E.coli and Salmonella)","Último relatório de microbiologia (bactérias mesófilas, enterobactérias, bolores e leveduras, E.coli e Salmonella)") -> Microbiology last report (mesophilic bacteria, enterobacteriaceae, molds and yeasts, E.coli and Salmonella)
C41: =IF(F41="","","Obrigatório") | F41: =IF($J$10=TRUE,"","Licença IBAMA")
C42: =IF($J$10=TRUE,"Differencial","Diferencial") -> Differencial | F42: =IF($J$10=TRUE,"Food Safety Certificates (e.g., GMP+FSA, FSSC 22000, FAMI QS, BRC...)","Certificados de Segurança de Alimentos (por exemplo, GMP+FSA, FSSC 22000, FAMI QS, BRC...)") -> Food Safety Certificates (e.g., GMP+FSA, FSSC 22000, FAMI QS, BRC...)
B51: =IF($J$10=TRUE,"MANUFACTURING COMPANY QUESTIONNAIRE","QUESTIONÁRIO DA EMPRESA FABRICANTE") -> MANUFACTURING COMPANY QUESTIONNAIRE
B52: =IF($J$10=TRUE,"Read each statement and mark with an X in the column according to the company's service in the item.","Por favor, leia cada enunciado e assinale com um X na coluna correspondente ao atendimento da empresa para o respectivo item.") -> Read each statement and mark with an X in the column according to the company's service in the item.
B53: =IF($J$10=TRUE,"Organizational Data","Dados Organizacionais") -> Organizational Data
B54: =IF($J$10=TRUE,"Items (Answer the question with an X. If the answer is NA, please justify the answer at the Observation field.","Itens (Selecione a resposta com X) / Se NA, justificar em Observações") -> Items (Answer the question with an X. If the answer is NA, please justify the answer at the Observation field. | D54: =IF($J$10=TRUE,"Yes","Sim") -> Yes | E54: =IF($J$10=TRUE,"No","Não") -> No | F54: =IF($J$10=TRUE,"In progress","Em andamento") -> In progress | G54: =IF($J$10=TRUE,"NA (not applicable)","NA") -> NA (not applicable) | H54: =IF($J$10=TRUE,"Observation","Observações") -> Observation
B55: 1 | C55: =IF($J$10=TRUE,"Does the company have a contract with its employees?","A empresa possui contrato com seus funcionários?") -> Does the company have a contract with its employees?
B56: 2 | C56: =IF($J$10=TRUE,"Is the working hours according to the current legislation of your country?","O horário de trabalho está de acordo com a legislação?") -> Is the working hours according to the current legislation of your country?
B57: 3 | C57: =IF($J$10=TRUE,"Does the company collect charges and taxes defined in the legislation ?","A empresa recolhe encargos e impostos definidos na legislação?") -> Does the company collect charges and taxes defined in the legislation ?
B58: 4 | C58: =IF($J$10=TRUE,"Does the company use any electronic managerial/administrative tool? Which?","A empresa utiliza alguma ferramenta gerencial/administrativa eletrônica? Qual?") -> Does the company use any electronic managerial/administrative tool? Which?
...

Sheet QUIMICO
C1: QUALIFICAÇÃO DE FORNECEDORES - QUÍMICO QUALIFICATION OF SUPPLIERS - CHEMICAL | J1: RQ-COR-GQ-13
J3: Revisão 03
B5: Para efetuar o preenchimento do formulário em inglês, solicitamos que selecione o botão abaixo./To fill out the form in English, we kindly request that you select the button below.
B10: =IF($J$10=TRUE,"Corporate Name:","Razão Social:") -> Razão Social: | J10: FALSE
B11: =IF($J$10=TRUE,"Fantasy Name:","Nome Fantasia:") -> Nome Fantasia:
B12: =IF($J$10=TRUE,"TIN:","CNPJ:") -> CNPJ:
B13: =IF($J$10=TRUE,"Adress:","Endereço:") -> Endereço:
B14: =IF($J$10=TRUE,"Product supplied to ICC Brazil:","Produto (s) fornecido (s) para a ICC:") -> Produto (s) fornecido (s) para a ICC:
B15: =IF($J$10=TRUE,"CEO:","Responsável Técnico:") -> Responsável Técnico:
C20: =IF($J$10=TRUE,"Please select the submitted documents below","Selecione abaixo os documentos enviados.") -> Selecione abaixo os documentos enviados.
C21: =IF($J$10=TRUE,"REQUIREMENT","REQUISITO") -> REQUISITO | D21: =IF($J$10=TRUE,"SENT","ENVIADO") -> ENVIADO | F21: =IF($J$10=TRUE,"DOCUMENTS","DOCUMENTOS") -> DOCUMENTOS
C22: =IF($J$10=TRUE,"Mandatory","Obrigatório") -> Obrigatório | F22: =IF($J$10=TRUE,"Government-issued operating license","Alvará da Prefeitura") -> Alvará da Prefeitura
C23: =IF($J$10=TRUE,"Mandatory","Obrigatório") -> Obrigatório | F23: =IF($J$10=TRUE,"License issued by the environmental agency","Licença de Operação ou Dispensa do órgão ambiental estadual") -> Licença de Operação ou Dispensa do órgão ambiental estadual
C24: =IF($J$10=TRUE,"Mandatory","Obrigatório") -> Obrigatório | F24: =IF($J$10=TRUE,"License issued by the health agency","Licença da Vigilância Sanitária") -> Licença da Vigilância Sanitária
C25: =IF($J$10=TRUE,"Mandatory","Obrigatório") -> Obrigatório | F25: =IF($J$10=TRUE,"Declaration of technical responsibility of CEO","Anotação do Responsável Técnico (ART)") -> Anotação do Responsável Técnico (ART)
C26: =IF($J$10=TRUE,"Mandatory","Obrigatório") -> Obrigatório | F26: =IF($J$10=TRUE,"Technical Specification Sheet (TS)","Ficha de Especificações Técnicas") -> Ficha de Especificações Técnicas
C27: =IF($J$10=TRUE,"Mandatory","Obrigatório") -> Obrigatório | F27: =IF($J$10=TRUE,"Material Safety Data Sheet (MSDS)","FISPQ") -> FISPQ
C28: =IF($J$10=TRUE,"Mandatory","Obrigatório") -> Obrigatório | F28: =IF($J$10=TRUE,"Fire department license, if applicable","Auto de Vistoria do Corpo de Bombeiros (AVCB)") -> Auto de Vistoria do Corpo de Bombeiros (AVCB)
C29: =IF($J$10=TRUE,"","Obrigatório") -> Obrigatório | F29: =IF($J$10=TRUE,"","Licença IBAMA") -> Licença IBAMA
C30: =IF($J$10=TRUE,"","Obrigatório") -> Obrigatório | F30: =IF($J$10=TRUE,"","Licença da Polícia Federal (Se aplicável)") -> Licença da Polícia Federal (Se aplicável)
C31: =IF($J$10=TRUE,"","Obrigatório") -> Obrigatório | F31: =IF($J$10=TRUE,"","Licença e Certificado de Vistoria da Polícia Civil (Se aplicável)") -> Licença e Certificado de Vistoria da Polícia Civil (Se aplicável)
C32: =IF($J$10=TRUE,"Differencial","Diferencial") -> Diferencial | F32: =IF($J$10=TRUE,"Food Safety Certificates (e.g., GMP+FSA, FSSC 22000, FAMI QS, BRC...)","Certificados de Segurança Alimentar (por exemplo, GMP+FSA, FSSC 22000, FAMI QS, BRC...)") -> Certificados de Segurança Alimentar (por exemplo, GMP+FSA, FSSC 22000, FAMI QS, BRC...)
C33: =IF($J$10=TRUE,"Differencial","Diferencial") -> Diferencial | F33: =IF($J$10=TRUE,"Certificate of ISO 14001 or similar or Environmental Responsibility Policy signed by the legal representative","Certificado de ISO 14001 ou similar ou Política de Responsabilidade Ambiental assinada pelo representante legal") -> Certificado de ISO 14001 ou similar ou Política de Responsabilidade Ambiental assinada pelo representante legal
B39: =IF($J$10=TRUE,"Read each statement and mark with an X in the column according to the company's service in the item.","Por favor, leia cada enunciado e assinale com um X na coluna correspondente ao atendimento da empresa para o respectivo item.") -> Por favor, leia cada enunciado e assinale com um X na coluna correspondente ao atendimento da empresa para o respectivo item.
B40: =IF($J$10=TRUE,"QUALITY AND FOOD SAFETY MANAGEMENT SYSTEM","SISTEMA DE GESTÃO DA QUALIDADE E SEGURANÇA DE ALIMENTOS") -> SISTEMA DE GESTÃO DA QUALIDADE E SEGURANÇA DE ALIMENTOS
B41: =IF($J$10=TRUE,"Items (Answer the question with an X. If the answer is NA, please justify the answer at the Observation field.","Itens (Selecione a resposta com X) / Se NA, justificar em Observações") -> Itens (Selecione a resposta com X) / Se NA, justificar em Observações | D41: =IF($J$10=TRUE,"Yes","Sim") -> Sim | E41: =IF($J$10=TRUE,"No","Não") -> Não | F41: =IF($J$10=TRUE,"In progress","Em andamento") -> Em andamento | G41: =IF($J$10=TRUE,"NA (not applicable)","NA") -> NA | H41: =IF($J$10=TRUE,"Observation","Observações") -> Observações
B42: 1 | C42: =IF($J$10=TRUE,"Does the company establish procedures for preparing, issuing, circulating and controlling documentation?","A empresa estabelece procedimentos para elaboração, emissão, circulação e controle da documentação?") -> A empresa estabelece procedimentos para elaboração, emissão, circulação e controle da documentação?
B43: =B42+1 -> 2 | C43: =IF($J$10=TRUE,"Is there a supplier management procedure?","Há procedimento de gestão de fornecedores?") -> Há procedimento de gestão de fornecedores?
B44: =B43+1 -> 3 | C44: =IF($J$10=TRUE,"Do you have a product traceability and recall program? Are simulations carried out?","Possui programa de rastreabilidade e recolhimento de produtos? São realizado simulados?") -> Possui programa de rastreabilidade e recolhimento de produtos? São realizado simulados?
B45: =B44+1 -> 4 | C45: =IF($J$10=TRUE,"Is there a documented preventative maintenance program for equipment?","Existe um programa documentado para manutenção preventiva dos equipamentos?") -> Existe um programa documentado para manutenção preventiva dos equipamentos?
B46: =B45+1 -> 5 | C46: =IF($J$10=TRUE,"Do you perform equipment and instrument calibration?","Realiza calibração de equipamento e instrumentos?") -> Realiza calibração de equipamento e instrumentos?
B47: =B46+1 -> 6 | C47: =IF($J$10=TRUE,"Are customers notified when there are changes to relevant information? How?","Quando há mudanças nos pertinentes os clientes são comunicados? Como?") -> Quando há mudanças nos pertinentes os clientes são comunicados? Como?
B48: =B47+1 -> 7 | C48: =IF($J$10=TRUE,"Is there a customer complaint handling system? Are complaints recorded and handled?","Existe um sistema de tratamento de reclamação de clientes? As reclamações são registradas e tratadas?") -> Existe um sistema de tratamento de reclamação de clientes? As reclamações são registradas e tratadas?
B49: =B48+1 -> 8 | C49: =IF($J$10=TRUE,"Does the company have liquid and solid waste treatments?","A empresa possuí tratamentos de resíduos líquidos e sólidos?") -> A empresa possuí tratamentos de resíduos líquidos e sólidos?
B50: =B49+1 -> 9 | C50: =IF($J$10=TRUE,"Are the manufactured products biodegradable, resulting in no changes to the effluent treatment system?","Os produtos fabricados são biodegradáveis não conferindo alteração em sistema de tratamento de efluentes?") -> Os produtos fabricados são biodegradáveis não conferindo alteração em sistema de tratamento de efluentes?
B51: =B50+1 -> 10 | C51: =IF($J$10=TRUE,"Does the company have an environmental responsibility policy?","A empresa possui política de responsabilidade ambiental?") -> A empresa possui política de responsabilidade ambiental?
B52: =B51+1 -> 11 | C52: =IF($J$10=TRUE,"Does the company separate organic waste from recyclable waste?","A empresa separar o lixo orgânico do lixo reciclável?") -> A empresa separar o lixo orgânico do lixo reciclável?
B53: =B52+1 -> 12 | C53: =IF($J$10=TRUE,"Do employee employees dress appropriately for their role?","Os colaboradores prestadores vestem-se adequadamente para o exercício do cargo?") -> Os colaboradores prestadores vestem-se adequadamente para o exercício do cargo?
B54: =B53+1 -> 13 | C54: =IF($J$10=TRUE,"Do provider employees use PPE when necessary?","Os colaboradores prestadores usam EPI'S quando necessário?") -> Os colaboradores prestadores usam EPI'S quando necessário?
B55: =B54+1 -> 14 | C55: =IF($J$10=TRUE,"Do employees undergo admission and periodic exams?","Os funcionários fazem exames admissionais e periódicos?") -> Os funcionários fazem exames admissionais e periódicos?
...

Sheet EMBALAGEM PRIMÁRIA 
C1: QUALIFICAÇÃO DE FORNECEDORES - EMBALAGEM PRIMÁRIA QUALIFICATION OF SUPPLIERS - PRIMARY PACKAGE | J1: RQ-COR-GQ-13
J3: Revisão 03
B5: Para efetuar o preenchimento do formulário em inglês, solicitamos que selecione o botão abaixo./To fill out the form in English, we kindly request that you select the button below.
B10: =IF($J$10=TRUE,"Corporate Name:","Razão Social:") -> Razão Social: | J10: FALSE
B11: =IF($J$10=TRUE,"Fantasy Name:","Nome Fantasia:") -> Nome Fantasia:
B12: =IF($J$10=TRUE,"TIN:","CNPJ:") -> CNPJ:
B13: =IF($J$10=TRUE,"Adress:","Endereço:") -> Endereço:
B14: =IF($J$10=TRUE,"Product supplied to ICC Brazil:","Produto (s) fornecido (s) para a ICC:") -> Produto (s) fornecido (s) para a ICC:
B15: =IF($J$10=TRUE,"CEO:","Responsável Técnico:") -> Responsável Técnico:
C20: =IF($J$10=TRUE,"Please select the submitted documents below","Selecione abaixo os documentos enviados.") -> Selecione abaixo os documentos enviados.
C21: =IF($J$10=TRUE,"REQUIREMENT","REQUISITO") -> REQUISITO | D21: =IF($J$10=TRUE,"SENT","ENVIADO") -> ENVIADO | F21: =IF($J$10=TRUE,"DOCUMENTS","DOCUMENTOS") -> DOCUMENTOS
C22: =IF($J$10=TRUE,"Mandatory","Obrigatório") -> Obrigatório | F22: =IF($J$10=TRUE,"Licença de operação emitida pelo governo","Alvará da Prefeitura") -> Alvará da Prefeitura
C23: =IF($J$10=TRUE,"Mandatory","Obrigatório") -> Obrigatório | F23: =IF($J$10=TRUE,"License issued by the health agency","Licença da Vigilância Sanitária") -> Licença da Vigilância Sanitária
C24: =IF($J$10=TRUE,"Mandatory","Obrigatório") -> Obrigatório | F24: =IF($J$10=TRUE,"License issued by the environmental agency","Licença de Operação ou Dispensa do órgão ambiental estadual") -> Licença de Operação ou Dispensa do órgão ambiental estadual
C25: =IF($J$10=TRUE,"Mandatory","Obrigatório") -> Obrigatório | F25: =IF($J$10=TRUE,"Proof of company registration with regulatory agencies","Comprovante de registro da empresa junto aos órgãos reguladores") -> Comprovante de registro da empresa junto aos órgãos reguladores
C26: =IF($J$10=TRUE,"Mandatory","Obrigatório") -> Obrigatório | F26: =IF($J$10=TRUE,"Product registration with the Responsible Organ of the country of origin","Registro do produto junto ao órgão responsável") -> Registro do produto junto ao órgão responsável
C27: =IF($J$10=TRUE,"Mandatory","Obrigatório") -> Obrigatório | F27: =IF($J$10=TRUE,"Technical Specification Sheet (TS)","Ficha de Especificações Técnicas") -> Ficha de Especificações Técnicas
C28: =IF($J$10=TRUE,"Mandatory","Obrigatório") -> Obrigatório | F28: =IF($J$10=TRUE,"Material Safety Data Sheet (MSDS)","FISPQ") -> FISPQ
C29: =IF($J$10=TRUE,"Mandatory","Obrigatório") -> Obrigatório | F29: =IF($J$10=TRUE,"ICC Technical Specification Acceptance","Aceite da Especificação Técnica ICC") -> Aceite da Especificação Técnica ICC
C30: =IF($J$10=TRUE,"Mandatory","Obrigatório") -> Obrigatório | F30: =IF($J$10=TRUE,"Analysis report in an external total migration laboratory","Laudo de análise em laboratório externo de migração total") -> Laudo de análise em laboratório externo de migração total
C31: =IF($J$10=TRUE,"Mandatory","Obrigatório") -> Obrigatório | F31: =IF($J$10=TRUE,"Specific migration report for packaging that contains dyes in accordance with Brazilian legislation RDC 52 of 11/26/2010","Laudo de migração específica para embalagens que possuem corantes de acordo com a RDC 52 de 26/11/2010.") -> Laudo de migração específica para embalagens que possuem corantes de acordo com a RDC 52 de 26/11/2010.
C32: =IF($J$10=TRUE,"Mandatory","Obrigatório") -> Obrigatório | F32: =IF($J$10=TRUE,"Report and declaration regarding the presence/absence of Bisphenol A.","Laudo e declaração referente a presença/ausência de Bisfenol A.") -> Laudo e declaração referente a presença/ausência de Bisfenol A.
C33: =IF($J$10=TRUE,"Differencial","Diferencial") -> Diferencial | F33: =IF($J$10=TRUE,"Permeability Report (if necessary)","Laudo de Permeabilidade (se necessário)") -> Laudo de Permeabilidade (se necessário)
C34: =IF($J$10=TRUE,"Differencial","Diferencial") -> Diferencial | F34: =IF($J$10=TRUE,"Food Safety Certificates (e.g., GMP+FSA, FSSC 22000, FAMI QS, BRC...)","Certificados de Segurança de Alimentos (por exemplo, GMP+FSA, FSSC 22000, FAMI QS, BRC...)") -> Certificados de Segurança de Alimentos (por exemplo, GMP+FSA, FSSC 22000, FAMI QS, BRC...)
B40: =IF($J$10=TRUE,"Read each statement and mark with an X in the column according to the company's service in the item.","Por favor, leia cada enunciado e assinale com um X na coluna correspondente ao atendimento da empresa para o respectivo item.") -> Por favor, leia cada enunciado e assinale com um X na coluna correspondente ao atendimento da empresa para o respectivo item.
B41: =IF($J$10=TRUE,"LEGISLATION","LEGISLAÇÃO") -> LEGISLAÇÃO
B42: =IF($J$10=TRUE,"Items (Answer the question with an X. If the answer is NA, please justify the answer at the Observation field.","Itens (Selecione a resposta com X) / Se NA, justificar em Observações") -> Itens (Selecione a resposta com X) / Se NA, justificar em Observações | D42: =IF($J$10=TRUE,"Yes","Sim") -> Sim | E42: =IF($J$10=TRUE,"No","Não") -> Não | F42: =IF($J$10=TRUE,"In progress","Em andamento") -> Em andamento | G42: =IF($J$10=TRUE,"NA (not applicable)","NA") -> NA | H42: =IF($J$10=TRUE,"Observation","Observações") -> Observações
B43: 1 | C43: =IF($J$10=TRUE,"Complies with Brazilian legislation RDC 88/2016","Atende a RDC 88/2016 da ANVISA") -> Atende a RDC 88/2016 da ANVISA
B44: 2 | C44: =IF($J$10=TRUE,"Complies with Brazilian legislation 105/1999","Atende a RDC 105/1999 da ANVISA ") -> Atende a RDC 105/1999 da ANVISA
B45: 3 | C45: =IF($J$10=TRUE,"Complies with Brazilian legislation RDC 91/2001","Atende a RDC 91/2001 da ANVISA") -> Atende a RDC 91/2001 da ANVISA
B46: 4 | C46: =IF($J$10=TRUE,"Complies with Brazilian legislation RDC 17/2008","Atende a RDC nº 17/2008 da ANVISA") -> Atende a RDC nº 17/2008 da ANVISA
B47: 5 | C47: =IF($J$10=TRUE,"Complies with Brazilian legislation RDC 51/2010","Atende a RDC 51/2010 da ANVISA") -> Atende a RDC 51/2010 da ANVISA
B48: 6 | C48: =IF($J$10=TRUE,"Complies with Brazilian legislation RDC 56/2012","Atende a RDC 56/2012 da ANVISA") -> Atende a RDC 56/2012 da ANVISA
B49: 7 | C49: =IF($J$10=TRUE,"Complies with Brazilian legislation RDC 326/2019","Atende a RDC 326/2019 da ANVISA") -> Atende a RDC 326/2019 da ANVISA
B50: 8 | C50: =IF($J$10=TRUE,"Complies with Brazilian legislation RDC 589/2021","Atende a RDC 589/2021 da ANVISA") -> Atende a RDC 589/2021 da ANVISA
B52: =IF($J$10=TRUE,"QUALITY AND FOOD SAFETY MANAGEMENT SYSTEM","SISTEMA DE GESTÃO DA QUALIDADE E SEGURANÇA DE ALIMENTOS") -> SISTEMA DE GESTÃO DA QUALIDADE E SEGURANÇA DE ALIMENTOS
B53: =IF($J$10=TRUE,"Items (Answer the question with an X. If the answer is NA, please justify the answer at the Observation field.","Itens (Selecione a resposta com X) / Se NA, justificar em Observações") -> Itens (Selecione a resposta com X) / Se NA, justificar em Observações | D53: =IF($J$10=TRUE,"Yes","Sim") -> Sim | E53: =IF($J$10=TRUE,"No","Não") -> Não | F53: =IF($J$10=TRUE,"In progress","Em andamento") -> Em andamento | G53: =IF($J$10=TRUE,"NA (not applicable)","NA") -> NA | H53: =IF($J$10=TRUE,"Observation","Observações") -> Observações
B54: =B50+1 -> 9 | C54: =IF($J$10=TRUE,"Does the company establish procedures for preparing, issuing, circulating and controlling documentation?","A empresa estabelece procedimentos para elaboração, emissão, circulação e controle da documentação?") -> A empresa estabelece procedimentos para elaboração, emissão, circulação e controle da documentação?
B55: =B54+1 -> 10 | C55: =IF($J$10=TRUE,"Does the company establish and implement Good Manufacturing Practices following current legislation?","A empresa estabelecer e implantar as Boas Práticas de Fabricação seguindo a Legislação vigente?") -> A empresa estabelecer e implantar as Boas Práticas de Fabricação seguindo a Legislação vigente?
B56: =B55+1 -> 11 | C56: =IF($J$10=TRUE,"Is there a Quality Manual or Good Manufacturing Practices Manual? (GMP)","Existe um Manual de Qualidade ou Manual de Boas Práticas de Fabricação?") -> Existe um Manual de Qualidade ou Manual de Boas Práticas de Fabricação?
...

Sheet EMBALAGEM SEGUNDÁRIA
C1: QUALIFICAÇÃO DE FORNECEDORES - EMBALAGEM SEGUNDÁRIA QUALIFICATION OF SUPPLIERS - SECONDARY PACKAGING | J1: RQ-COR-GQ-13
J3: Revisão 03
B5: Para efetuar o preenchimento do formulário em inglês, solicitamos que selecione o botão abaixo./To fill out the form in English, we kindly request that you select the button below.
B10: =IF($J$10=TRUE,"Corporate Name:","Razão Social:") -> Razão Social: | J10: FALSE
B11: =IF($J$10=TRUE,"Fantasy Name:","Nome Fantasia:") -> Nome Fantasia:
B12: =IF($J$10=TRUE,"TIN:","CNPJ:") -> CNPJ:
B13: =IF($J$10=TRUE,"Adress:","Endereço:") -> Endereço:
B14: =IF($J$10=TRUE,"Product supplied to ICC Brazil:","Produto (s) fornecido (s) para a ICC:") -> Produto (s) fornecido (s) para a ICC:
B15: =IF($J$10=TRUE,"CEO:","Responsável Técnico:") -> Responsável Técnico:
C20: =IF($J$10=TRUE,"Please select the submitted documents below","Selecione abaixo os documentos enviados.") -> Selecione abaixo os documentos enviados.
C21: =IF($J$10=TRUE,"REQUIREMENT","REQUISITO") -> REQUISITO | D21: =IF($J$10=TRUE,"SENT","ENVIADO") -> ENVIADO | F21: =IF($J$10=TRUE,"DOCUMENTS","DOCUMENTOS") -> DOCUMENTOS
C22: =IF($J$10=TRUE,"Mandatory","Obrigatório") -> Obrigatório | F22: =IF($J$10=TRUE,"Licença de operação emitida pelo governo","Alvará da Prefeitura") -> Alvará da Prefeitura
C23: =IF($J$10=TRUE,"Mandatory","Obrigatório") -> Obrigatório | F23: =IF($J$10=TRUE,"License issued by the health agency","Licença da Vigilância Sanitária") -> Licença da Vigilância Sanitária
C24: =IF($J$10=TRUE,"Mandatory","Obrigatório") -> Obrigatório | F24: =IF($J$10=TRUE,"License issued by the environmental agency","Licença de Operação ou Dispensa do órgão ambiental estadual") -> Licença de Operação ou Dispensa do órgão ambiental estadual
C25: =IF($J$10=TRUE,"Mandatory","Obrigatório") -> Obrigatório | F25: =IF($J$10=TRUE,"Technical Specification Sheet (TS)","Ficha de Especificações Técnicas") -> Ficha de Especificações Técnicas
C26: =IF($J$10=TRUE,"Mandatory","Obrigatório") -> Obrigatório | F26: =IF($J$10=TRUE,"ICC Technical Specification Acceptance","Aceite da Especificação Técnica ICC") -> Aceite da Especificação Técnica ICC
C27: =IF($J$10=TRUE,"Differencial","Diferencial") -> Diferencial | F27: =IF($J$10=TRUE,"Material Safety Data Sheet (MSDS)","FISPQ") -> FISPQ
C28: =IF($J$10=TRUE,"Differencial","Diferencial") -> Diferencial | F28: =IF($J$10=TRUE,"Food Safety Certificates (e.g., GMP+FSA, FSSC 22000, FAMI QS, BRC...)","Certificados de Segurança de Alimentos (por exemplo, GMP+FSA, FSSC 22000, FAMI QS, BRC...)") -> Certificados de Segurança de Alimentos (por exemplo, GMP+FSA, FSSC 22000, FAMI QS, BRC...)
B36: =IF($J$10=TRUE,"Read each statement and mark with an X in the column according to the company's service in the item.","Por favor, leia cada enunciado e assinale com um X na coluna correspondente ao atendimento da empresa para o respectivo item.") -> Por favor, leia cada enunciado e assinale com um X na coluna correspondente ao atendimento da empresa para o respectivo item.
B37: =IF($J$10=TRUE,"QUALITY AND FOOD SAFETY MANAGEMENT SYSTEM","SISTEMA DE GESTÃO DA QUALIDADE E SEGURANÇA DE ALIMENTOS") -> SISTEMA DE GESTÃO DA QUALIDADE E SEGURANÇA DE ALIMENTOS
B38: =IF($J$10=TRUE,"Items (Answer the question with an X. If the answer is NA, please justify the answer at the Observation field.","Itens (Selecione a resposta com X) / Se NA, justificar em Observações") -> Itens (Selecione a resposta com X) / Se NA, justificar em Observações | D38: =IF($J$10=TRUE,"Yes","Sim") -> Sim | E38: =IF($J$10=TRUE,"No","Não") -> Não | F38: =IF($J$10=TRUE,"In progress","Em andamento") -> Em andamento | G38: =IF($J$10=TRUE,"NA (not applicable)","NA") -> NA | H38: =IF($J$10=TRUE,"Observation","Observações") -> Observações
B39: 1 | C39: =IF($J$10=TRUE,"Does the company establish procedures for preparing, issuing, circulating and controlling documentation?","A empresa estabelece procedimentos para elaboração, emissão, circulação e controle da documentação?") -> A empresa estabelece procedimentos para elaboração, emissão, circulação e controle da documentação?
B40: 2 | C40: =IF($J$10=TRUE,"Is there a supplier management procedure?","Há procedimento de gestão de fornecedores?") -> Há procedimento de gestão de fornecedores?
B41: 3 | C41: =IF($J$10=TRUE,"Do you have a product traceability and recall program? Are simulations carried out?","Possui programa de rastreabilidade e recolhimento de produtos? São realizado simulados?") -> Possui programa de rastreabilidade e recolhimento de produtos? São realizado simulados?
B43: =IF($J$10=TRUE,"MAINTENANCE AND CALIBRATION","MANUTENÇÃO E CALIBRAÇÃO") -> MANUTENÇÃO E CALIBRAÇÃO
B44: =IF($J$10=TRUE,"Items (Answer the question with an X. If the answer is NA, please justify the answer at the Observation field.","Itens (Selecione a resposta com X) / Se NA, justificar em Observações") -> Itens (Selecione a resposta com X) / Se NA, justificar em Observações | D44: =IF($J$10=TRUE,"Yes","Sim") -> Sim | E44: =IF($J$10=TRUE,"No","Não") -> Não | F44: =IF($J$10=TRUE,"In progress","Em andamento") -> Em andamento | G44: =IF($J$10=TRUE,"NA (not applicable)","NA") -> NA | H44: =IF($J$10=TRUE,"Observation","Observações") -> Observações
B45: 4 | C45: =IF($J$10=TRUE,"Is there a documented preventative maintenance program for equipment?","Existe um programa documentado para manutenção preventiva dos equipamentos?") -> Existe um programa documentado para manutenção preventiva dos equipamentos?
B46: 5 | C46: =IF($J$10=TRUE,"Do you perform equipment and instrument calibration?","Realiza calibração de equipamento e instrumentos?") -> Realiza calibração de equipamento e instrumentos?
B48: =IF($J$10=TRUE,"RECEIPT, STORAGE AND DISPATCH OF PRODUCTS","RECEBIMENTO, ARMAZENAMENTO E EXPEDIÇÃO DE PRODUTOS") -> RECEBIMENTO, ARMAZENAMENTO E EXPEDIÇÃO DE PRODUTOS
B49: =IF($J$10=TRUE,"Items (Answer the question with an X. If the answer is NA, please justify the answer at the Observation field.","Itens (Selecione a resposta com X) / Se NA, justificar em Observações") -> Itens (Selecione a resposta com X) / Se NA, justificar em Observações | D49: =IF($J$10=TRUE,"Yes","Sim") -> Sim | E49: =IF($J$10=TRUE,"No","Não") -> Não | F49: =IF($J$10=TRUE,"In progress","Em andamento") -> Em andamento | G49: =IF($J$10=TRUE,"NA (not applicable)","NA") -> NA | H49: =IF($J$10=TRUE,"Observation","Observações") -> Observações
B50: 6 | C50: =IF($J$10=TRUE,"Are the vehicles that transport products in good hygiene conditions, covered, and free from pests and other contaminants? Are vehicles inspected during receipt and dispatch?","Veiculos que fazem o transporte dos produtos apresentadam boas condições de higiene, são cobertos, ausentes de pragas e outros contaminantes? Os veículos são inspecionados durante o recebimento e expedição?") -> Veiculos que fazem o transporte dos produtos apresentadam boas condições de higiene, são cobertos, ausentes de pragas e outros contaminantes? Os veículos são inspecionados durante o recebimento e expedição?
B51: 7 | C51: =IF($J$10=TRUE,"Are products stored in appropriate conditions, regarding temperature, humidity, absence of sunlight and away from walls?","Produtos estão armazenados em condições adequadas, quanto à temperatura, umidade, ausência de luz solar e distantes das paredes?") -> Produtos estão armazenados em condições adequadas, quanto à temperatura, umidade, ausência de luz solar e distantes das paredes?
B53: =IF($J$10=TRUE,"PRODUCTION PROCESS","PROCESSO DE PRODUÇÃO") -> PROCESSO DE PRODUÇÃO
B54: =IF($J$10=TRUE,"Items (Answer the question with an X. If the answer is NA, please justify the answer at the Observation field.","Itens (Selecione a resposta com X) / Se NA, justificar em Observações") -> Itens (Selecione a resposta com X) / Se NA, justificar em Observações | D54: =IF($J$10=TRUE,"Yes","Sim") -> Sim | E54: =IF($J$10=TRUE,"No","Não") -> Não | F54: =IF($J$10=TRUE,"In progress","Em andamento") -> Em andamento | G54: =IF($J$10=TRUE,"NA (not applicable)","NA") -> NA | H54: =IF($J$10=TRUE,"Observation","Observações") -> Observações
B55: 8 | C55: =IF($J$10=TRUE,"Are there criteria for each process and product acceptance? Are these parameters controlled and recorded?","Existem critérios para cada processo e aceitação do produto? Estes parametros são controlados e registrados?") -> Existem critérios para cada processo e aceitação do produto? Estes parametros são controlados e registrados?
B57: =IF($J$10=TRUE,"CUSTOMER COMMUNICATION","COMUNICAÇÃO COM O CLIENTE") -> COMUNICAÇÃO COM O CLIENTE
B58: =IF($J$10=TRUE,"Items (Answer the question with an X. If the answer is NA, please justify the answer at the Observation field.","Itens (Selecione a resposta com X) / Se NA, justificar em Observações") -> Itens (Selecione a resposta com X) / Se NA, justificar em Observações | D58: =IF($J$10=TRUE,"Yes","Sim") -> Sim | E58: =IF($J$10=TRUE,"No","Não") -> Não | F58: =IF($J$10=TRUE,"In progress","Em andamento") -> Em andamento | G58: =IF($J$10=TRUE,"NA (not applicable)","NA") -> NA | H58: =IF($J$10=TRUE,"Observation","Observações") -> Observações
B59: 9 | C59: =IF($J$10=TRUE,"Does the company ensure that customer requirements for products are being followed? How?","A empresa assegura que os requisitos dos clientes para produtos estão sendo seguidos? Como?") -> A empresa assegura que os requisitos dos clientes para produtos estão sendo seguidos? Como?
B60: 10 | C60: =IF($J$10=TRUE,"Are customers notified when there are changes to relevant information? How?","Quando há mudanças nos pertinentes os clientes são comunicados? Como?") -> Quando há mudanças nos pertinentes os clientes são comunicados? Como?
B61: 11 | C61: =IF($J$10=TRUE,"Is there a customer complaint handling system? Are complaints recorded and handled?","Existe um sistema de tratamento de reclamação de clientes? As reclamações são registradas e tratadas?") -> Existe um sistema de tratamento de reclamação de clientes? As reclamações são registradas e tratadas?
...

Sheet PRODUTO DE LIMPEZA
C1: QUALIFICAÇÃO DE FORNECEDORES - PRODUTO DE LIMPEZA QUALIFICATION OF SUPPLIERS - CLEANING PRODUCT | J1: RQ-COR-GQ-13
J3: Revisão 03
B5: Para efetuar o preenchimento do formulário em inglês, solicitamos que selecione o botão abaixo./To fill out the form in English, we kindly request that you select the button below.
B10: =IF($J$10=TRUE,"Corporate Name:","Razão Social:") -> Razão Social: | J10: FALSE
B11: =IF($J$10=TRUE,"Fantasy Name:","Nome Fantasia:") -> Nome Fantasia:
B12: =IF($J$10=TRUE,"TIN:","CNPJ:") -> CNPJ:
B13: =IF($J$10=TRUE,"Adress:","Endereço:") -> Endereço:
B14: =IF($J$10=TRUE,"Product supplied to ICC Brazil:","Produto (s) fornecido (s) para a ICC:") -> Produto (s) fornecido (s) para a ICC:
B15: =IF($J$10=TRUE,"CEO:","Responsável Técnico:") -> Responsável Técnico:
C20: =IF($J$10=TRUE,"Please select the submitted documents below","Selecione abaixo os documentos enviados.") -> Selecione abaixo os documentos enviados.
C21: =IF($J$10=TRUE,"REQUIREMENT","REQUISITO") -> REQUISITO | D21: =IF($J$10=TRUE,"SENT","ENVIADO") -> ENVIADO | F21: =IF($J$10=TRUE,"DOCUMENTS","DOCUMENTOS") -> DOCUMENTOS
C22: =IF($J$10=TRUE,"Mandatory","Obrigatório") -> Obrigatório | F22: =IF($J$10=TRUE,"Licença de operação emitida pelo governo","Alvará da Prefeitura") -> Alvará da Prefeitura
C23: =IF($J$10=TRUE,"Mandatory","Obrigatório") -> Obrigatório | F23: =IF($J$10=TRUE,"License issued by the health agency","Licença da Vigilância Sanitária") -> Licença da Vigilância Sanitária
C24: =IF($J$10=TRUE,"Mandatory","Obrigatório") -> Obrigatório | F24: =IF($J$10=TRUE,"License issued by the environmental agency","Licença de Operação ou Dispensa do órgão ambiental estadual") -> Licença de Operação ou Dispensa do órgão ambiental estadual
C25: =IF($J$10=TRUE,"Mandatory","Obrigatório") -> Obrigatório | F25: =IF($J$10=TRUE,"Product registration with the Responsible Organ of the country of origin","Registro do produto junto ao órgão responsável") -> Registro do produto junto ao órgão responsável
C26: =IF($J$10=TRUE,"Mandatory","Obrigatório") -> Obrigatório | F26: =IF($J$10=TRUE,"Technical Specification Sheet (TS)","Ficha de Especificações Técnicas") -> Ficha de Especificações Técnicas
C27: =IF($J$10=TRUE,"Mandatory","Obrigatório") -> Obrigatório | F27: =IF($J$10=TRUE,"Material Safety Data Sheet (MSDS)","FISPQ") -> FISPQ
C28: =IF($J$10=TRUE,"Mandatory","Obrigatório") -> Obrigatório | F28: =IF($J$10=TRUE,"Desirable Antimicrobial efficacy assessment report, when necessary","Desejável Laudo / Relatório de avaliação da eficácia antimicrobiana, quando necessário") -> Desejável Laudo / Relatório de avaliação da eficácia antimicrobiana, quando necessário
C29: =IF($J$10=TRUE,"Differencial","Diferencial") -> Diferencial | F29: =IF($J$10=TRUE,"Certificate or Declaration of Waste Movement","Certificado de Movimentação de resíduo de interesse ambiental (CADRI)") -> Certificado de Movimentação de resíduo de interesse ambiental (CADRI)
C30: =IF($J$10=TRUE,"Differencial","Diferencial") -> Diferencial | F30: =IF($J$10=TRUE,"Food Safety Certificates (e.g., GMP+FSA, FSSC 22000, FAMI QS, BRC...)","Certificados de Segurança de Alimentos (por exemplo, GMP+FSA, FSSC 22000, FAMI QS, BRC...)") -> Certificados de Segurança de Alimentos (por exemplo, GMP+FSA, FSSC 22000, FAMI QS, BRC...)
B37: =IF($J$10=TRUE,"Read each statement and mark with an X in the column according to the company's service in the item.","Por favor, leia cada enunciado e assinale com um X na coluna correspondente ao atendimento da empresa para o respectivo item.") -> Por favor, leia cada enunciado e assinale com um X na coluna correspondente ao atendimento da empresa para o respectivo item.
B38: =IF($J$10=TRUE,"GENERAL ITEMS","ITENS GERAIS") -> ITENS GERAIS
B39: =IF($J$10=TRUE,"Items (Answer the question with an X. If the answer is NA, please justify the answer at the Observation field.","Itens (Selecione a resposta com X) / Se NA, justificar em Observações") -> Itens (Selecione a resposta com X) / Se NA, justificar em Observações | D39: =IF($J$10=TRUE,"Yes","Sim") -> Sim | E39: =IF($J$10=TRUE,"No","Não") -> Não | F39: =IF($J$10=TRUE,"In progress","Em andamento") -> Em andamento | G39: =IF($J$10=TRUE,"NA (not applicable)","NA") -> NA | H39: =IF($J$10=TRUE,"Observation","Observações") -> Observações
B40: 1 | C40: =IF($J$10=TRUE,"Does the company follow current legislation regarding its products and/or services offered? Describe the number and date of the legislation","A empresa segue as legislações vigentes aos seus produtos e/ou serviços oferecidos? Descreva o n° e data da legislação/ portaria/RDC vigente para o seu estabelecimento") -> A empresa segue as legislações vigentes aos seus produtos e/ou serviços oferecidos? Descreva o n° e data da legislação/ portaria/RDC vigente para o seu estabelecimento
B41: =B40+1 -> 2 | C41: =IF($J$10=TRUE,"Are non-conforming products identified, separated and discarded?","Produtos não-conformes são identificados, separados e descartados?") -> Produtos não-conformes são identificados, separados e descartados?
B42: =B41+1 -> 3 | C42: =IF($J$10=TRUE," Water supply network connected to the public system or a system with certified potability?","Rede de abastecimento de água ligada à rede pública ou sistema com potabilidade atestada?") -> Rede de abastecimento de água ligada à rede pública ou sistema com potabilidade atestada?
B43: =B42+1 -> 4 | C43: =IF($J$10=TRUE,"Operational procedures and controls described and implemented. Comment on the supplier's process/activity flow/controls.","Procedimentos e controles operacionais descritos e implementados. Comente sobre o processo/ fluxo de atividade/ controles do fornecedor.") -> Procedimentos e controles operacionais descritos e implementados. Comente sobre o processo/ fluxo de atividade/ controles do fornecedor.
B44: =B43+1 -> 5 | C44: =IF($J$10=TRUE,"Do you have a procedure and system in place to deal with customer complaints? What methodology is used to investigate the root cause of deviations? Is it considered effective?","Possui procedimento e sistemática implementada para tratativa de reclamações de clientes? Qual a metodologia utilizada para investigação de causa raíz dos desvios? É considerada eficaz?") -> Possui procedimento e sistemática implementada para tratativa de reclamações de clientes? Qual a metodologia utilizada para investigação de causa raíz dos desvios? É considerada eficaz?
B45: =B44+1 -> 6 | C45: =IF($J$10=TRUE,"Are there criteria established for the selection/receipt of raw materials and other materials based on product safety? What criteria?","Existem critérios estabelecidos para a seleção/recebimento das matérias-primas e demais materiais baseados na segurança do produto? Quais critérios?") -> Existem critérios estabelecidos para a seleção/recebimento das matérias-primas e demais materiais baseados na segurança do produto? Quais critérios? | H45: Resposta obrigatória/Required answer:
B46: =B45+1 -> 7 | C46: =IF($J$10=TRUE,"Is countertest samples stored? For how long?","É realizado o armazenamento de amostras contraprova? Por quanto tempo?") -> É realizado o armazenamento de amostras contraprova? Por quanto tempo? | H46: Resposta obrigatória/Required answer:
B48: =IF($J$10=TRUE,"GOOD MANUFACTURING PRACTICES AND QUALITY AND FOOD SAFETY MANAGEMENT SYSTEM","BOAS PRÁTICAS DE FABRICAÇÃO E SISTEMA DE GESTÃO DE QUALIDADE E SEGURANÇA DE ALIMENTOS ") -> BOAS PRÁTICAS DE FABRICAÇÃO E SISTEMA DE GESTÃO DE QUALIDADE E SEGURANÇA DE ALIMENTOS
B49: =IF($J$10=TRUE,"Items (Answer the question with an X. If the answer is NA, please justify the answer at the Observation field.","Itens (Selecione a resposta com X) / Se NA, justificar em Observações") -> Itens (Selecione a resposta com X) / Se NA, justificar em Observações | D49: =IF($J$10=TRUE,"Yes","Sim") -> Sim | E49: =IF($J$10=TRUE,"No","Não") -> Não | F49: =IF($J$10=TRUE,"In progress","Em andamento") -> Em andamento | G49: =IF($J$10=TRUE,"NA (not applicable)","NA") -> NA | H49: =IF($J$10=TRUE,"Observation","Observações") -> Observações
B50: =B46+1 -> 8 | C50: =IF($J$10=TRUE,"Is there a Good Manufacturing Practices (GMP) program in place?","Existe um programa de Boas Práticas de Fabricação (BPF) implantado?") -> Existe um programa de Boas Práticas de Fabricação (BPF) implantado?
B51: =B50+1 -> 9 | C51: =IF($J$10=TRUE,"Does the company have a Good Manufacturing Practices Manual?","A empresa possui Manual de Boas Práticas de Fabricação?") -> A empresa possui Manual de Boas Práticas de Fabricação?
B52: =B51+1 -> 10 | C52: =IF($J$10=TRUE,"Existence and use of PPE?","Existência e uso de EPIs?") -> Existência e uso de EPIs?
B53: =B52+1 -> 11 | C53: =IF($J$10=TRUE,"Does the company have a formalized system for retaining and releasing raw materials, products in process and finished products, based on the results of their analysis?","A empresa possui sistemática formalizada para retenção e liberação de matérias primas, produtos em processo e produtos acabados, com base nos resultados de análises dos mesmos?") -> A empresa possui sistemática formalizada para retenção e liberação de matérias primas, produtos em processo e produtos acabados, com base nos resultados de análises dos mesmos?
B54: =B53+1 -> 12 | C54: =IF($J$10=TRUE,"Does the company have a Glass Policy defined? Inventory carried out in the areas, and frequent monitoring established?","A empresa tem definida uma Política de Vidros? Inventário realizado nas áreas, e monitoramento com frequência estabelecida?") -> A empresa tem definida uma Política de Vidros? Inventário realizado nas áreas, e monitoramento com frequência estabelecida?
B55: =B54+1 -> 13 | C55: =IF($J$10=TRUE,"The company has a documented preventive and corrective maintenance program. It includes a list of production equipment, frequency and responsibility for maintenance.","A empresa possui um programa de manutenção preventiva e corretiva documentado. Ele inclui uma lista de equipamentos de produção, frequência e responsabilidade pela manutenção.") -> A empresa possui um programa de manutenção preventiva e corretiva documentado. Ele inclui uma lista de equipamentos de produção, frequência e responsabilidade pela manutenção.
B56: =B55+1 -> 14 | C56: =IF($J$10=TRUE,"Is there a calibration plan for equipment considered critical? Validated reports/information?","Existe plano de calibração dos equipamentos considerados críticos? Laudos/ informações validadas?") -> Existe plano de calibração dos equipamentos considerados críticos? Laudos/ informações validadas?
B57: =B56+1 -> 15 | C57: =IF($J$10=TRUE,"Does the specialized company collect any waste arising from its activities?","A empresa especializada recolhe qualquer resíduo oriundo de suas atividades?") -> A empresa especializada recolhe qualquer resíduo oriundo de suas atividades?
...

Sheet EPI
C1: QUALIFICAÇÃO DE FORNECEDORES - EPI QUALIFICATION OF SUPPLIERS - PPE | J1: RQ-COR-GQ-13
J3: Revisão 03
B5: Para efetuar o preenchimento do formulário em inglês, solicitamos que selecione o botão abaixo./To fill out the form in English, we kindly request that you select the button below.
B10: =IF($J$10=TRUE,"Corporate Name:","Razão Social:") -> Razão Social: | J10: FALSE
B11: =IF($J$10=TRUE,"Fantasy Name:","Nome Fantasia:") -> Nome Fantasia:
B12: =IF($J$10=TRUE,"TIN:","CNPJ:") -> CNPJ:
B13: =IF($J$10=TRUE,"Adress:","Endereço:") -> Endereço:
B14: =IF($J$10=TRUE,"Product supplied to ICC Brazil:","Produto (s) fornecido (s) para a ICC:") -> Produto (s) fornecido (s) para a ICC:
B15: =IF($J$10=TRUE,"CEO:","Responsável Técnico:") -> Responsável Técnico:
C20: =IF($J$10=TRUE,"Please select the submitted documents below","Selecione abaixo os documentos enviados.") -> Selecione abaixo os documentos enviados.
C21: =IF($J$10=TRUE,"REQUIREMENT","REQUISITO") -> REQUISITO | D21: =IF($J$10=TRUE,"SENT","ENVIADO") -> ENVIADO | F21: =IF($J$10=TRUE,"DOCUMENTS","DOCUMENTOS") -> DOCUMENTOS
C22: =IF($J$10=TRUE,"Mandatory","Obrigatório") -> Obrigatório | F22: =IF($J$10=TRUE,"Licença de operação emitida pelo governo","Alvará da Prefeitura") -> Alvará da Prefeitura
C23: =IF($J$10=TRUE,"Mandatory","Obrigatório") -> Obrigatório | F23: =IF($J$10=TRUE,"Product registration with the Responsible Organ of the country of origin","Registro do produto junto ao órgão responsável") -> Registro do produto junto ao órgão responsável
C24: =IF($J$10=TRUE,"Mandatory","Obrigatório") -> Obrigatório | F24: =IF($J$10=TRUE,"License issued by the health agency","Certificado do Registro no MS/ANVISA do produto") -> Certificado do Registro no MS/ANVISA do produto
C25: =IF($J$10=TRUE,"Mandatory","Obrigatório") -> Obrigatório | F25: =IF($J$10=TRUE,"Company statement when the product is not registered with the health agency","Declaração da empresa quando o produto não registrado no MS/ANVISA") -> Declaração da empresa quando o produto não registrado no MS/ANVISA
C26: =IF($J$10=TRUE,"Mandatory","Obrigatório") -> Obrigatório | F26: =IF($J$10=TRUE,"Authorization to operate the establishment of the manufacturer and distributor by the public body","Autorização de funcionamento de estabelecimento (AFE) do fabricante e do distribuidor - MS/ANVISA- Facultativo para produtos não regulamentados pelo MS/ANVISA") -> Autorização de funcionamento de estabelecimento (AFE) do fabricante e do distribuidor - MS/ANVISA- Facultativo para produtos não regulamentados pelo MS/ANVISA
C27: =IF($J$10=TRUE,"Mandatory","Obrigatório") -> Obrigatório | F27: =IF($J$10=TRUE,"Product use instruction","Instrução de uso do produto") -> Instrução de uso do produto
C28: =IF($J$10=TRUE,"Mandatory","Obrigatório") -> Obrigatório | F28: =IF($J$10=TRUE,"Manufacturer's Good Manufacturing Practices Procedure","Procedimento de boas práticas de fabricação do fabricante") -> Procedimento de boas práticas de fabricação do fabricante
C29: =IF($J$10=TRUE,"Mandatory","Obrigatório") -> Obrigatório | F29: =IF($J$10=TRUE,"Material Safety Data Sheet (MSDS)","FISPQ") -> FISPQ
C30: =IF($J$10=TRUE,"Mandatory","Obrigatório") -> Obrigatório | F30: =IF($J$10=TRUE,"Technical Specification Sheet (TS)","Ficha de Especificações Técnicas") -> Ficha de Especificações Técnicas
C31: =IF($J$10=TRUE,"Mandatory","Obrigatório") -> Obrigatório | F31: =IF($J$10=TRUE,"Dermal and ocular irritability test report from a qualified laboratory.","Laudo de teste de irritabilidade dérmica e ocular de laboratorio com habilitação.") -> Laudo de teste de irritabilidade dérmica e ocular de laboratorio com habilitação.
C32: =IF($J$10=TRUE,"","Obrigatório") -> Obrigatório | F32: =IF($J$10=TRUE,"","Certificado de Aprovação - CA - Emitido pelo Ministerio do Trabalho") -> Certificado de Aprovação - CA - Emitido pelo Ministerio do Trabalho
C33: =IF($J$10=TRUE,"Differencial","Diferencial") -> Diferencial | F33: =IF($J$10=TRUE,"Accredited laboratory reports - In case of grammage/adhesiveness/sanitisers","Laudos de laboratorio Credenciados do MC e/o INMETRO - Em caso de gramatura/adesividade/saneantes") -> Laudos de laboratorio Credenciados do MC e/o INMETRO - Em caso de gramatura/adesividade/saneantes
B40: =IF($J$10=TRUE,"Read each statement and mark with an X in the column according to the company's service in the item.","Por favor, leia cada enunciado e assinale com um X na coluna correspondente ao atendimento da empresa para o respectivo item.") -> Por favor, leia cada enunciado e assinale com um X na coluna correspondente ao atendimento da empresa para o respectivo item.
B41: =IF($J$10=TRUE,"QUALITY AND FOOD SAFETY MANAGEMENT SYSTEM","SISTEMA DE GESTÃO DA QUALIDADE E SEGURANÇA DE ALIMENTOS") -> SISTEMA DE GESTÃO DA QUALIDADE E SEGURANÇA DE ALIMENTOS
