Workbook

Sheet G1 G2 G3 G4 G5
AR2: MAPA AVALIAÇÃO DE INFESTAÇÃO | BJ2: ARMADILHAS TROCADAS EM: | BW2: 45882
H5: ='LASIODERMA SERRICONE JDN 1'!C4&'LASIODERMA SERRICONE JDN 1'!C39 -> R-0 | AA5: ='LASIODERMA SERRICONE JDN 1'!C4&'LASIODERMA SERRICONE JDN 1'!C52 -> R-1
Y6: ='LASIODERMA SERRICONE JDN 1'!C4&'LASIODERMA SERRICONE JDN 1'!C18 -> R-0
H7: ='LASIODERMA SERRICONE JDN 1'!B39 -> 0 | L7: ='TRIBOLIUM CASTANEUM'!B15 -> 0 | AA7: ='LASIODERMA SERRICONE JDN 1'!B52 -> 0 | AI7: ='LASIODERMA SERRICONE JDN 1'!C4&'LASIODERMA SERRICONE JDN 1'!C20 -> R-1 | AK7: ='LASIODERMA SERRICONE JDN 1'!B20 -> 0 | AS7: ='LASIODERMA SERRICONE JDN 1'!C4&'LASIODERMA SERRICONE JDN 1'!C32 -> R-0 | AU7: ='LASIODERMA SERRICONE JDN 1'!B32 -> 0 | BK7: ='LASIODERMA SERRICONE JDN 1'!C4&'LASIODERMA SERRICONE JDN 1'!C33 -> R-1 | BM7: ='LASIODERMA SERRICONE JDN 1'!B33 -> 0 | CV7: Capturas referentes às últimas 10 leituras realizadas | DM7: Cores por criticidade de capturas | DW7: Símbolos por tipo de armadilha
P8: ='LASIODERMA SERRICONE JDN 1'!C4&'LASIODERMA SERRICONE JDN 1'!C38 -> R-0 | R8: ='LASIODERMA SERRICONE JDN 1'!B38 -> 0 | T8: ='LASIODERMA SERRICONE JDN 1'!B51 -> 0 | V8: ='LASIODERMA SERRICONE JDN 1'!C4&'LASIODERMA SERRICONE JDN 1'!C51 -> R-1 | Y8: ='LASIODERMA SERRICONE JDN 1'!B18 -> 0 | AC8: 48 | BQ8: ='LASIODERMA SERRICONE JDN 1'!C4&'LASIODERMA SERRICONE JDN 1'!C58 -> R-2 | BS8: ='LASIODERMA SERRICONE JDN 1'!B58 -> 0
H9: 35 | L9: 12 | AK9: 16 | AU9: 28 | BM9: 29
R10: 34 | T10: 47 | Y10: 14 | AM10: ='LASIODERMA SERRICONE JDN 1'!C4&'LASIODERMA SERRICONE JDN 1'!C21 -> R-2 | BS10: 54
CV11: = Número de semanas com captura de caruncho nas últimas 10 leituras | DP11: 0
AM12: ='LASIODERMA SERRICONE JDN 1'!B21 -> 0 | AO12: 17 | AW12: ='LASIODERMA SERRICONE JDN 1'!C4&'LASIODERMA SERRICONE JDN 1'!C22 -> R-2 | AY12: ='LASIODERMA SERRICONE JDN 1'!B22 -> 0 | BS12: 53 | CR12: Legenda | DP12: 1 | DZ12: LASIODERMA SERRICONE
BQ13: ='LASIODERMA SERRICONE JDN 1'!C4&'LASIODERMA SERRICONE JDN 1'!C57 -> R-1 | BS13: ='LASIODERMA SERRICONE JDN 1'!B57 -> 0 | DP13: 2
AG14: 50 | AY14: 18 | BF14: ='LASIODERMA SERRICONE JDN 1'!$B$42 -> 0 | BH14: ='LASIODERMA SERRICONE JDN 1'!C4&'LASIODERMA SERRICONE JDN 1'!C42 -> R-0 | DP14: >=3 | DZ14: TRIBOLIUM CASTANEUM
AS15: ='LASIODERMA SERRICONE JDN 1'!C4&'LASIODERMA SERRICONE JDN 1'!C60 -> R-1 | CB15: ='LASIODERMA SERRICONE JDN 1'!C4&'LASIODERMA SERRICONE JDN 1'!B56 -> R-0 | CD15: ='LASIODERMA SERRICONE JDN 1'!B56 -> 0
E16: ='LASIODERMA SERRICONE JDN 1'!C4&'LASIODERMA SERRICONE JDN 1'!C53 -> R-1 | G16: ='LASIODERMA SERRICONE JDN 1'!C4&'LASIODERMA SERRICONE JDN 1'!C16 -> R-0 | Q16: ='TRIBOLIUM CASTANEUM'!B13 -> 0 | T16: ='LASIODERMA SERRICONE JDN 1'!B17 -> 1 | V16: ='LASIODERMA SERRICONE JDN 1'!C4&'LASIODERMA SERRICONE JDN 1'!C17 -> R-3 | Z16: ='LASIODERMA SERRICONE JDN 1'!C4&'LASIODERMA SERRICONE JDN 1'!C19 -> R-2 | AB16: ='LASIODERMA SERRICONE JDN 1'!B19 -> 2 | AG16: ='LASIODERMA SERRICONE JDN 1'!B54 -> 0 | AI16: ='LASIODERMA SERRICONE JDN 1'!C4&'LASIODERMA SERRICONE JDN 1'!C54 -> R-0 | AM16: ='TRIBOLIUM CASTANEUM'!B11 -> 0 | AP16: 8 | BF16: 38 | CN16: ='LASIODERMA SERRICONE JDN 1'!C4&'LASIODERMA SERRICONE JDN 1'!C25 -> R-0
AS17: ='LASIODERMA SERRICONE JDN 1'!B60 -> 0 | AU17: 56 | BH17: 55 | BR17: pos | CD17: 52
E18: ='LASIODERMA SERRICONE JDN 1'!B53 -> 0 | G18: ='LASIODERMA SERRICONE JDN 1'!B16 -> 0 | I18: 12 | T18: 13 | AB18: 15 | CL18: 21 | CN18: ='LASIODERMA SERRICONE JDN 1'!B25 -> 0
Q19: 10 | BH19: ='LASIODERMA SERRICONE JDN 1'!B59 -> 0 | BJ19: ='LASIODERMA SERRICONE JDN 1'!C4&'LASIODERMA SERRICONE JDN 1'!C59 -> R-1
E20: 49
AD21: 44 | AM21: ='LASIODERMA SERRICONE JDN 1'!C4&'LASIODERMA SERRICONE JDN 1'!C47 -> R-0
G22: ='TRIBOLIUM CASTANEUM'!B14 -> 0 | I22: 11 | AV22: ='LASIODERMA SERRICONE JDN 1'!$B$43 -> 0 | AX22: ='LASIODERMA SERRICONE JDN 1'!C4&'LASIODERMA SERRICONE JDN 1'!C43 -> R-0 | BZ22: ='LASIODERMA SERRICONE JDN 1'!C4&'LASIODERMA SERRICONE JDN 1'!C24 -> R-1 | CB22: ='LASIODERMA SERRICONE JDN 1'!B24 -> 0
P23: ='LASIODERMA SERRICONE JDN 1'!C4&'LASIODERMA SERRICONE JDN 1'!C50 -> R-1 | AB23: ='LASIODERMA SERRICONE JDN 1'!C4&'LASIODERMA SERRICONE JDN 1'!C48 -> R-4 | AD23: ='LASIODERMA SERRICONE JDN 1'!$B$48 -> 0 | AM23: ='LASIODERMA SERRICONE JDN 1'!$B$47 -> 0 | AO23: 43
T24: ='LASIODERMA SERRICONE JDN 1'!C4&'LASIODERMA SERRICONE JDN 1'!C37 -> R-2 | AK24: ='LASIODERMA SERRICONE JDN 1'!C4&'LASIODERMA SERRICONE JDN 1'!C41 -> R-2 | AV24: 39 | BS24: ='LASIODERMA SERRICONE JDN 1'!C4&'LASIODERMA SERRICONE JDN 1'!C23 -> R-0 | CB24: 20
P25: ='LASIODERMA SERRICONE JDN 1'!$B$50 -> 0 | R25: 46
T26: ='LASIODERMA SERRICONE JDN 1'!B37 -> 0 | V26: 33 | Y26: 45 | AI26: 37 | AK26: ='LASIODERMA SERRICONE JDN 1'!$B$41 -> 0 | AM26: ='LASIODERMA SERRICONE JDN 1'!C4&'LASIODERMA SERRICONE JDN 1'!C34 -> R-0 | BQ26: 19 | BS26: ='LASIODERMA SERRICONE JDN 1'!B23 -> 0
E27: ='LASIODERMA SERRICONE JDN 1'!C4&'LASIODERMA SERRICONE JDN 1'!C15 -> R-0 | G27: ='LASIODERMA SERRICONE JDN 1'!B15 -> 0 | I27: 11 | AB27: ='LASIODERMA SERRICONE JDN 1'!C4&'LASIODERMA SERRICONE JDN 1'!C40 -> R-2 | AD27: ='LASIODERMA SERRICONE JDN 1'!$B$40 -> 0 | AF27: 36
W28: ='LASIODERMA SERRICONE JDN 1'!C4&'LASIODERMA SERRICONE JDN 1'!C49 -> R-1 | Y28: ='LASIODERMA SERRICONE JDN 1'!$B$49 -> 0 | AH28: ='TRIBOLIUM CASTANEUM'!B12 -> 0 | AJ28: 9 | AM28: ='LASIODERMA SERRICONE JDN 1'!B34 -> 0 | AO28: 30 | CN28: ='LASIODERMA SERRICONE JDN 1'!C4&'LASIODERMA SERRICONE JDN 1'!C26 -> R-3
P30: ='TRIBOLIUM CASTANEUM'!B10 -> 0 | R30: 7 | AB30: ='LASIODERMA SERRICONE JDN 1'!C4&'LASIODERMA SERRICONE JDN 1'!C35 -> R-0 | AD30: ='LASIODERMA SERRICONE JDN 1'!$B$35 -> 0 | BU30: ='TRIBOLIUM CASTANEUM'!B5 -> 0 | BW30: 2 | CL30: 22 | CN30: ='LASIODERMA SERRICONE JDN 1'!B26 -> 1
G31: ='LASIODERMA SERRICONE JDN 1'!B14 -> 0 | I31: 10 | AM31: ='LASIODERMA SERRICONE JDN 1'!C4&'LASIODERMA SERRICONE JDN 1'!C46 -> R-1
AD32: 31 | AV32: ='LASIODERMA SERRICONE JDN 1'!$B$44 -> 0 | AX32: ='LASIODERMA SERRICONE JDN 1'!C4&'LASIODERMA SERRICONE JDN 1'!C44 -> R-3 | BF32: ='LASIODERMA SERRICONE JDN 1'!$B$45 -> 0 | BH32: ='LASIODERMA SERRICONE JDN 1'!C4&'LASIODERMA SERRICONE JDN 1'!C45 -> R-1
G33: ='LASIODERMA SERRICONE JDN 1'!C4&'LASIODERMA SERRICONE JDN 1'!C14 -> R-2 | AM33: ='LASIODERMA SERRICONE JDN 1'!$B$46 -> 0
AV34: 40 | BF34: 41
S35: ='TRIBOLIUM CASTANEUM'!B9 -> 0 | V35: 6 | AM35: 42 | CL35: 1 | CN35: ='TRIBOLIUM CASTANEUM'!B4 -> 0
BI36: ='TRIBOLIUM CASTANEUM'!B6 -> 0 | BL36: 3
AM37: ='TRIBOLIUM CASTANEUM'!B8 -> 0 | AP37: 5
U39: ='LASIODERMA SERRICONE JDN 1'!C4&'LASIODERMA SERRICONE JDN 1'!C36 -> R-0 | BU39: ='LASIODERMA SERRICONE JDN 1'!B6 -> 0 | BW39: 2
G40: ='LASIODERMA SERRICONE JDN 1'!B13 -> 1 | I40: 9
U41: ='LASIODERMA SERRICONE JDN 1'!B36 -> 0 | W41: 32 | BU41: ='LASIODERMA SERRICONE JDN 1'!C4&'LASIODERMA SERRICONE JDN 1'!C6 -> R-3
G42: ='LASIODERMA SERRICONE JDN 1'!C4&'LASIODERMA SERRICONE JDN 1'!C13 -> R-1 | L42: 8 | AD42: 7 | AM42: ='LASIODERMA SERRICONE JDN 1'!B10 -> 1 | AO42: 6 | AX42: 4
CC43: 1
L44: ='LASIODERMA SERRICONE JDN 1'!B12 -> 0 | N44: ='LASIODERMA SERRICONE JDN 1'!C4&'LASIODERMA SERRICONE JDN 1'!C12 -> R-0 | AD44: ='LASIODERMA SERRICONE JDN 1'!B11 -> 0 | AF44: ='LASIODERMA SERRICONE JDN 1'!C4&'LASIODERMA SERRICONE JDN 1'!C11 -> R-0 | AM44: ='LASIODERMA SERRICONE JDN 1'!C4&'LASIODERMA SERRICONE JDN 1'!C10 -> R-1
AX45: ='LASIODERMA SERRICONE JDN 1'!B8 -> 0 | AZ45: ='LASIODERMA SERRICONE JDN 1'!C4&'LASIODERMA SERRICONE JDN 1'!C8 -> R-2 | CA45: ='LASIODERMA SERRICONE JDN 1'!C4&'LASIODERMA SERRICONE JDN 1'!C5 -> R-2 | CC45: ='LASIODERMA SERRICONE JDN 1'!B5 -> 0
...

Sheet Mezanino
AM2: ARMADILHAS TROCADAS EM: | AR2: 45882
BJ6: Capturas referentes às últimas 10 leituras realizadas | CA6: Cores por criticidade de capturas | CK6: Símbolos por tipo de armadilha
BJ10: = Número de semanas com captura de caruncho nas últimas 10 leituras | CD10: 0
CD11: 1 | CN11: LASIODERMA SERRICONE
E12: 27 | CD12: 2
E13: ='LASIODERMA SERRICONE JDN 1'!B31 -> 0 | F13: ='LASIODERMA SERRICONE JDN 1'!C4&'LASIODERMA SERRICONE JDN 1'!C31 -> R-1 | CD13: >=3 | CN13: TRIBOLIUM CASTANEUM
E14: ='LASIODERMA SERRICONE JDN 1'!B30 -> 0 | F14: ='LASIODERMA SERRICONE JDN 1'!C4&'LASIODERMA SERRICONE JDN 1'!C30 -> R-0 | AB14: ='TRIBOLIUM CASTANEUM'!B7 -> 0 | AC14: 4
E15: 26 | AR15: ='LASIODERMA SERRICONE JDN 1'!C4&'LASIODERMA SERRICONE JDN 1'!C55 -> R-1 | AS15: ='LASIODERMA SERRICONE JDN 1'!B55 -> 1 | AT15: 51
L20: 25 | V20: 24 | AJ20: 23
L21: ='LASIODERMA SERRICONE JDN 1'!B29 -> 0 | M21: ='LASIODERMA SERRICONE JDN 1'!C4&'LASIODERMA SERRICONE JDN 1'!C29 -> R-3 | V21: ='LASIODERMA SERRICONE JDN 1'!B28 -> 0 | W21: ='LASIODERMA SERRICONE JDN 1'!C4&'LASIODERMA SERRICONE JDN 1'!C28 -> R-3 | AJ21: ='LASIODERMA SERRICONE JDN 1'!B27 -> 1 | AK21: ='LASIODERMA SERRICONE JDN 1'!C4&'LASIODERMA SERRICONE JDN 1'!C27 -> R-0

Sheet G7
T2: G7 | AP2: ARMADILHAS TROCADAS EM: | AU2: 45882
J5: ='TRIBOLIUM CASTANEUM'!B58 -> 0 | K5: 4 | O5: ='LASIODERMA SERRICONE JDN 1'!B69 -> 2 | P5: ='LASIODERMA SERRICONE JDN 1'!C4&'LASIODERMA SERRICONE JDN 1'!C69 -> R-3 | AE5: ='TRIBOLIUM CASTANEUM'!B59 -> 0 | AF5: 5 | AK5: ='LASIODERMA SERRICONE JDN 1'!B72 -> 0 | AL5: ='LASIODERMA SERRICONE JDN 1'!C4&'LASIODERMA SERRICONE JDN 1'!C72 -> R-2 | BI5: Capturas referentes às últimas 10 leituras realizadas | BZ5: Cores por criticidade de capturas | CJ5: Símbolos por tipo de armadilha
O6: 7 | AK6: 10
BI9: = Número de semanas com captura de caruncho nas últimas 10 leituras | CC9: 0
CC10: 1 | CM10: LASIODERMA SERRICONE
CC11: 2
CC12: >=3 | CM12: TRIBOLIUM CASTANEUM
C13: ='LASIODERMA SERRICONE JDN 1'!B68 -> 1 | D13: ='LASIODERMA SERRICONE JDN 1'!C4&'LASIODERMA SERRICONE JDN 1'!C68 -> R-3 | K13: ='LASIODERMA SERRICONE JDN 1'!C4&'LASIODERMA SERRICONE JDN 1'!C67 -> R-3 | L13: ='LASIODERMA SERRICONE JDN 1'!B67 -> 0 | U13: ='LASIODERMA SERRICONE JDN 1'!C4&'LASIODERMA SERRICONE JDN 1'!C66 -> R-2 | V13: ='LASIODERMA SERRICONE JDN 1'!B66 -> 1 | AG13: ='LASIODERMA SERRICONE JDN 1'!C4&'LASIODERMA SERRICONE JDN 1'!C65 -> R-2 | AH13: ='LASIODERMA SERRICONE JDN 1'!B65 -> 0 | AQ13: ='LASIODERMA SERRICONE JDN 1'!C4&'LASIODERMA SERRICONE JDN 1'!C64 -> R-2 | AR13: ='LASIODERMA SERRICONE JDN 1'!B64 -> 0 | BB13: ='LASIODERMA SERRICONE JDN 1'!C4&'LASIODERMA SERRICONE JDN 1'!C63 -> R-2 | BC13: ='LASIODERMA SERRICONE JDN 1'!B63 -> 0
C14: 6 | L14: 5 | V14: 4 | AH14: 3 | AR14: 2 | BC14: 1
BB18: 1 | BC18: ='TRIBOLIUM CASTANEUM'!B55 -> 0
O22: 8 | AN22: 9
I23: ='TRIBOLIUM CASTANEUM'!B57 -> 0 | J23: 3 | O23: ='LASIODERMA SERRICONE JDN 1'!B70 -> 0 | P23: ='LASIODERMA SERRICONE JDN 1'!C4&'LASIODERMA SERRICONE JDN 1'!C70 -> R-3 | AK23: ='TRIBOLIUM CASTANEUM'!B56 -> 0 | AL23: 2 | AN23: ='LASIODERMA SERRICONE JDN 1'!B71 -> 0 | AO23: ='LASIODERMA SERRICONE JDN 1'!C4&'LASIODERMA SERRICONE JDN 1'!C71 -> R-2

Sheet JND 2
V3: Jundiaí 2 | AI3: ARMADILHAS TROCADAS EM: | AN3: 45882 | BD3: Capturas referentes às últimas 10 leituras realizadas | BU3: Cores por criticidade de capturas | CE3: Símbolos por tipo de armadilha
F4: ='LASIODERMA SERRICONE JND 2'!B46 -> 0 | G4: ='LASIODERMA SERRICONE JND 2'!C4&'LASIODERMA SERRICONE JND 2'!C46 -> R-0 | J4: ='LASIODERMA SERRICONE JND 2'!B47 -> 0 | K4: ='LASIODERMA SERRICONE JND 2'!C4&'LASIODERMA SERRICONE JND 2'!C47 -> R-0
C5: ='LASIODERMA SERRICONE JND 2'!B45 -> 0 | D5: ='LASIODERMA SERRICONE JND 2'!C4&'LASIODERMA SERRICONE JND 2'!C45 -> R-0 | F5: 42 | J5: 43
C6: 41 | N6: ='LASIODERMA SERRICONE JND 2'!C4&'LASIODERMA SERRICONE JND 2'!C48 -> R-0
M7: 44 | N7: ='LASIODERMA SERRICONE JND 2'!B48 -> 0
C8: ='LASIODERMA SERRICONE JND 2'!B37 -> 0 | D8: ='LASIODERMA SERRICONE JND 2'!C4&'LASIODERMA SERRICONE JND 2'!C37 -> R-0
C9: 33 | I9: ='TRIBOLIUM CASTANEUM'!L9 -> 0 | J9: 6
C10: ='TRIBOLIUM CASTANEUM'!L8 -> 0 | D10: 5 | T10: ='LASIODERMA SERRICONE JND 2'!B13 -> 0 | U10: ='LASIODERMA SERRICONE JND 2'!C4&'LASIODERMA SERRICONE JND 2'!C13 -> R-1 | Z10: ='LASIODERMA SERRICONE JND 2'!B12 -> 0 | AA10: ='LASIODERMA SERRICONE JND 2'!C4&'LASIODERMA SERRICONE JND 2'!C12 -> R-0 | AE10: ='LASIODERMA SERRICONE JND 2'!B11 -> 0 | AF10: ='LASIODERMA SERRICONE JND 2'!C4&'LASIODERMA SERRICONE JND 2'!C11 -> R-0 | AI10: ='LASIODERMA SERRICONE JND 2'!B10 -> 0 | AJ10: ='LASIODERMA SERRICONE JND 2'!C4&'LASIODERMA SERRICONE JND 2'!C10 -> R-1 | AL10: ='LASIODERMA SERRICONE JND 2'!B9 -> 0 | AM10: ='LASIODERMA SERRICONE JND 2'!C4&'LASIODERMA SERRICONE JND 2'!C9 -> R-0 | BD10: = Número de semanas com captura de caruncho nas últimas 10 leituras | BX10: 0
N11: ='LASIODERMA SERRICONE JDN 1'!C4&'LASIODERMA SERRICONE JDN 1'!C16 -> R-0 | T11: 9 | Z11: 8 | AE11: 7 | AI11: 6 | AL11: 5
M12: 12 | N12: ='LASIODERMA SERRICONE JND 2'!B19 -> 0
G14: ='LASIODERMA SERRICONE JND 2'!C4&'LASIODERMA SERRICONE JND 2'!C35 -> R-0 | J14: ='LASIODERMA SERRICONE JND 2'!C4&'LASIODERMA SERRICONE JND 2'!C17 -> R-0 | N14: ='LASIODERMA SERRICONE JND 2'!C4&'LASIODERMA SERRICONE JND 2'!C15 -> R-0 | O14: ='LASIODERMA SERRICONE JND 2'!C4&'LASIODERMA SERRICONE JND 2'!C14 -> R-0 | BX14: 1 | CH14: LASIODERMA SERRICONE
C15: ='LASIODERMA SERRICONE JND 2'!B36 -> 0 | D15: ='LASIODERMA SERRICONE JND 2'!C4&'LASIODERMA SERRICONE JND 2'!C36 -> R-0 | G15: ='LASIODERMA SERRICONE JND 2'!B35 -> 0 | J15: ='LASIODERMA SERRICONE JND 2'!B17 -> 0 | M15: 11 | N15: ='LASIODERMA SERRICONE JND 2'!B15 -> 0 | O15: ='LASIODERMA SERRICONE JND 2'!B14 -> 0 | P15: 10 | BX15: 2
C16: 32 | G16: 31 | J16: 13 | W16: ='TRIBOLIUM CASTANEUM'!L12 -> 0 | X16: 9 | AL16: ='TRIBOLIUM CASTANEUM'!L13 -> 0 | AM16: 10 | AO16: ='LASIODERMA SERRICONE JND 2'!C4&'LASIODERMA SERRICONE JND 2'!C8 -> R-0 | BX16: >=3 | CH16: TRIBOLIUM CASTANEUM
M17: 7 | N17: ='TRIBOLIUM CASTANEUM'!L10 -> 0 | S17: ='LASIODERMA SERRICONE JND 2'!C4&'LASIODERMA SERRICONE JND 2'!C19 -> R-0 | T17: ='LASIODERMA SERRICONE JND 2'!B19 -> 0 | U17: 15 | Y17: ='LASIODERMA SERRICONE JND 2'!C4&'LASIODERMA SERRICONE JND 2'!C20 -> R-1 | Z17: ='LASIODERMA SERRICONE JND 2'!B20 -> 0 | AA17: 16 | AI17: ='LASIODERMA SERRICONE JND 2'!C4&'LASIODERMA SERRICONE JND 2'!C21 -> R-0 | AJ17: ='LASIODERMA SERRICONE JND 2'!B21 -> 0 | AK17: 17 | AN17: 4 | AO17: ='LASIODERMA SERRICONE JND 2'!B8 -> 0
AR18: ='LASIODERMA SERRICONE JND 2'!C4&'LASIODERMA SERRICONE JND 2'!C7 -> R-0 | AS18: ='LASIODERMA SERRICONE JND 2'!B7 -> 0
AS19: 3 | AX19: ='LASIODERMA SERRICONE JND 2'!C4&'LASIODERMA SERRICONE JND 2'!C6 -> R-0
O20: ='TRIBOLIUM CASTANEUM'!L11 -> 0 | P20: 8 | AU20: ='TRIBOLIUM CASTANEUM'!L14 -> 0 | AV20: 11 | AW20: 2 | AX20: ='LASIODERMA SERRICONE JND 2'!B6 -> 0
I21: ='TRIBOLIUM CASTANEUM'!L7 -> 0 | J21: 4
O22: ='LASIODERMA SERRICONE JND 2'!B18 -> 0 | P22: 14 | AC22: ='LASIODERMA SERRICONE JND 2'!C4&'LASIODERMA SERRICONE JND 2'!C24 -> R-1 | AD22: ='LASIODERMA SERRICONE JND 2'!B24 -> 0 | AE22: 20 | AL22: ='LASIODERMA SERRICONE JND 2'!C4&'LASIODERMA SERRICONE JND 2'!C23 -> R-0 | AM22: ='LASIODERMA SERRICONE JND 2'!B23 -> 0 | AN22: 19 | AQ22: ='LASIODERMA SERRICONE JND 2'!C4&'LASIODERMA SERRICONE JND 2'!C34 -> R-0 | AR22: ='LASIODERMA SERRICONE JND 2'!B34 -> 0 | AS22: 30
O23: ='LASIODERMA SERRICONE JND 2'!C4&'LASIODERMA SERRICONE JND 2'!C18 -> R-1
AX24: ='LASIODERMA SERRICONE JND 2'!C4&'LASIODERMA SERRICONE JND 2'!C5 -> R-0
H25: ='LASIODERMA SERRICONE JND 2'!C4&'LASIODERMA SERRICONE JND 2'!C42 -> R-0 | O25: ='LASIODERMA SERRICONE JND 2'!C4&'LASIODERMA SERRICONE JND 2'!C25 -> R-1 | AO25: ='TRIBOLIUM CASTANEUM'!L15 -> 0 | AP25: 12 | AQ25: ='LASIODERMA SERRICONE JND 2'!C4&'LASIODERMA SERRICONE JND 2'!C22 -> R-0 | AR25: ='LASIODERMA SERRICONE JND 2'!B22 -> 0 | AS25: 18 | AW25: 1 | AX25: ='LASIODERMA SERRICONE JND 2'!B5 -> 0
E26: ='TRIBOLIUM CASTANEUM'!L6 -> 0 | F26: 3 | H26: ='LASIODERMA SERRICONE JND 2'!B42 -> 0 | N26: ='LASIODERMA SERRICONE JND 2'!C4&'LASIODERMA SERRICONE JND 2'!C43 -> R-1 | O26: ='LASIODERMA SERRICONE JND 2'!B25 -> 0 | P26: 21 | W26: ='TRIBOLIUM CASTANEUM'!L16 -> 0 | X26: 13
C27: ='LASIODERMA SERRICONE JND 2'!C4&'LASIODERMA SERRICONE JND 2'!C41 -> R-0 | H27: 38 | M27: 39 | N27: ='LASIODERMA SERRICONE JND 2'!B43 -> 0
C28: ='LASIODERMA SERRICONE JND 2'!B41 -> 0 | S28: ='LASIODERMA SERRICONE JND 2'!C4&'LASIODERMA SERRICONE JND 2'!C27 -> R-0 | T28: ='LASIODERMA SERRICONE JND 2'!B27 -> 0 | U28: 23 | Y28: ='LASIODERMA SERRICONE JND 2'!C4&'LASIODERMA SERRICONE JND 2'!C28 -> R-0 | Z28: ='LASIODERMA SERRICONE JND 2'!B28 -> 0 | AA28: 24 | AC28: ='LASIODERMA SERRICONE JND 2'!C4&'LASIODERMA SERRICONE JND 2'!C29 -> R-0 | AD28: ='LASIODERMA SERRICONE JND 2'!B29 -> 0 | AE28: 25 | AH28: ='LASIODERMA SERRICONE JND 2'!C4&'LASIODERMA SERRICONE JND 2'!C30 -> R-0 | AI28: ='LASIODERMA SERRICONE JND 2'!B30 -> 0 | AJ28: 26
C29: 37
M30: 1 | N30: ='TRIBOLIUM CASTANEUM'!L4 -> 0 | O30: ='LASIODERMA SERRICONE JND 2'!C4&'LASIODERMA SERRICONE JND 2'!C26 -> R-1
O31: ='LASIODERMA SERRICONE JND 2'!B26 -> 0 | P31: 22
M33: 34
C34: ='LASIODERMA SERRICONE JND 2'!B40 -> 0 | D34: 36 | E34: ='TRIBOLIUM CASTANEUM'!L5 -> 0 | F34: 2 | H34: ='LASIODERMA SERRICONE JND 2'!B39 -> 0 | I34: 35 | M34: ='LASIODERMA SERRICONE JND 2'!B38 -> 0 | O34: 40 | Q34: ='TRIBOLIUM CASTANEUM'!L17 -> 0 | R34: 14 | S34: ='LASIODERMA SERRICONE JND 2'!C4&'LASIODERMA SERRICONE JND 2'!C33 -> R-0 | T34: ='LASIODERMA SERRICONE JND 2'!B33 -> 0 | U34: 29 | Y34: ='LASIODERMA SERRICONE JND 2'!C4&'LASIODERMA SERRICONE JND 2'!C32 -> R-0 | Z34: ='LASIODERMA SERRICONE JND 2'!B32 -> 0 | AA34: 28 | AD34: ='LASIODERMA SERRICONE JND 2'!C4&'LASIODERMA SERRICONE JND 2'!C31 -> R-2 | AE34: ='LASIODERMA SERRICONE JND 2'!B31 -> 0 | AF34: 27 | AH34: ='TRIBOLIUM CASTANEUM'!L18 -> 0 | AI34: 15
C35: ='LASIODERMA SERRICONE JND 2'!C4&'LASIODERMA SERRICONE JND 2'!C40 -> R-0 | H35: ='LASIODERMA SERRICONE JND 2'!C4&'LASIODERMA SERRICONE JND 2'!C39 -> R-0 | M35: ='LASIODERMA SERRICONE JND 2'!C4&'LASIODERMA SERRICONE JND 2'!C38 -> R-0 | O35: ='LASIODERMA SERRICONE JND 2'!B44 -> 0
O36: ='LASIODERMA SERRICONE JND 2'!C4&'LASIODERMA SERRICONE JND 2'!C44 -> R-0

Sheet LASIODERMA SERRICONE JDN 1
AA1: Outubro | AE1: Novembro | AI1: Dezembro
C2: Nº de semanas | D2: Data da Leitura: | E2: 45782 | F2: 45789 | G2: 45796 | H2: 45803 | I2: 45810 | J2: 45817 | K2: 45824 | L2: 45831 | M2: 45838 | N2: 45845 | O2: 45852 | P2: 45859 | Q2: 45866 | R2: 45873 | S2: 45880 | T2: 45887 | U2: 45894 | V2: 45901 | W2: 45908 | X2: 45915 | Y2: 45922 | Z2: 45929 | AA2: 45936 | AB2: 45943 | AC2: 45950 | AD2: 45957 | AE2: 45964 | AF2: 45971 | AG2: 45978 | AH2: 45985 | AI2: 45992 | AJ2: 45999 | AK2: 46006 | AL2: 46013 | AM2: 46020 | AN2: 46027 | AO2: 46034 | AP2: 46041 | AQ2: 46048
A3: Armadilha | B3: Última Leitura | E3: Semana 18 | F3: Semana 19 | G3: Semana 20 | H3: Semana 21 | I3: Semana 22 | J3: Semana 23 | K3: Semana 24 | L3: Semana 25 | M3: Semana 26 | N3: Semana 27 | O3: Semana 28 | P3: Semana 29 | Q3: Semana 30 | R3: Semana 31 | S3: Semana 32 | T3: Semana 33 | U3: Semana 34 | V3: Semana 35 | W3: Semana 36 | X3: Semana 37 | Y3: Semana 38 | Z3: Semana 39 | AA3: Semana 40 | AB3: Semana 41 | AC3: Semana 42 | AD3: Semana 43 | AE3: Semana 44 | AF3: Semana 45 | AG3: Semana 46 | AH3: Semana 47 | AI3: Semana 48 | AJ3: Semana 49 | AK3: Semana 50 | AL3: Semana 51 | AM3: Semana 52
C4: R- | E4: 28/04 - 04/05 | F4: 05/05 - 11/05 | G4: 12/05 - 18/05 | H4: 19/05 - 25/05 | I4: 26/05 - 01/06 | J4: 02/06 - 08/06 | K4: 09/06 - 15/06 | L4: 16/06 - 22/06 | M4: 23/06 - 29/06 | N4: 30/06 - 06/07 | O4: 07/07 - 13/07 | P4: 14/07 - 20/07 | Q4: 21/07 - 27/07 | R4: 28/07 - 03/08 | S4: 04/08 -10/08 | T4: 11/08 - 17/08 | U4: 18/08 - 24/08 | V4: 25/08 - 31/08 | W4: 01/09 - 07/09 | X4: 08/09 - 14/09 | Y4: 18/09 - 21/09 | Z4: 22/09-28/09 | AA4: 29/09 - 05/10 | AB4: 06/10 - 12/10 | AC4: 13/10 - 19/10 | AD4: 20/10 - 26/10 | AE4: 27/10 - 02/11 | AF4: 03/11 - 09/11 | AG4: 10/11 - 16/11 | AH4: 17/11 - 23/11 | AI4: 24/11 - 30/11 | AJ4: 01/12 - 07/12 | AK4: 08/12 - 14/12 | AL4: 15/12 - 21/12 | AM4: 22/12 - 28/12
A5: 1 | B5: 0 | C5: =COUNTIF(OFFSET(E5,0,COUNTA(E5:AM5)-10,1,10),">0") -> 2 | E5: 1 | F5: 0 | G5: 0 | H5: 0 | I5: 0 | J5: 1 | K5: 0 | L5: 0 | M5: 0 | N5: 0 | O5: 0 | P5: 0 | Q5: 0 | R5: 1 | S5: 0 | T5: 1 | U5: 0 | V5: 0 | W5: 0 | X5: 0 | Y5: 0 | Z5: 0 | AA5: 0 | AB5: 0 | AC5: 0 | AD5: 0 | AE5: 0 | AF5: 0 | AG5: 0 | AH5: 0 | AI5: 0 | AJ5: 0 | AK5: 1 | AL5: 1 | AM5: 0 | AN5: 0 | AO5: 1 | AP5: 0 | AQ5: 0
A6: 2 | B6: 0 | C6: =COUNTIF(OFFSET(E6,0,COUNTA(E6:AM6)-10,1,10),">0") -> 3 | E6: 0 | F6: 1 | G6: 0 | H6: 0 | I6: 1 | J6: 0 | K6: 0 | L6: 1 | M6: 0 | N6: 0 | O6: 0 | P6: 0 | Q6: 0 | R6: 0 | S6: 0 | T6: 0 | U6: 0 | V6: 0 | W6: 0 | X6: 0 | Y6: 0 | Z6: 0 | AA6: 0 | AB6: 0 | AC6: 0 | AD6: 0 | AE6: 0 | AF6: 0 | AG6: 0 | AH6: 0 | AI6: 0 | AJ6: 1 | AK6: 4 | AL6: 0 | AM6: 1 | AN6: 0 | AO6: 1 | AP6: 0 | AQ6: 0
A7: 3 | B7: 0 | C7: =COUNTIF(OFFSET(E7,0,COUNTA(E7:AM7)-10,1,10),">0") -> 2 | E7: 0 | F7: 0 | G7: 0 | H7: 0 | I7: 0 | J7: 0 | K7: 0 | L7: 0 | M7: 0 | N7: 0 | O7: 0 | P7: 0 | Q7: 0 | R7: 0 | S7: 0 | T7: 0 | U7: 0 | V7: 0 | W7: 0 | X7: 0 | Y7: 1 | Z7: 0 | AA7: 0 | AB7: 0 | AC7: 0 | AD7: 0 | AE7: 0 | AF7: 0 | AG7: 0 | AH7: 0 | AI7: 0 | AJ7: 0 | AK7: 0 | AL7: 1 | AM7: 3 | AN7: 1 | AO7: 0 | AP7: 0 | AQ7: 0
A8: 4 | B8: 0 | C8: =COUNTIF(OFFSET(E8,0,COUNTA(E8:AM8)-10,1,10),">0") -> 2 | E8: 0 | F8: 0 | G8: 1 | H8: 0 | I8: 0 | J8: 0 | K8: 0 | L8: 0 | M8: 0 | N8: 0 | O8: 0 | P8: 0 | Q8: 0 | R8: 0 | S8: 0 | T8: 0 | U8: 0 | V8: 0 | W8: 0 | X8: 0 | Y8: 0 | Z8: 0 | AA8: 0 | AB8: 0 | AC8: 0 | AD8: 0 | AE8: 0 | AF8: 0 | AG8: 0 | AH8: 0 | AI8: 0 | AJ8: 0 | AK8: 0 | AL8: 1 | AM8: 1 | AN8: 0 | AO8: 0 | AP8: 0 | AQ8: 0
A9: 5 | B9: 0 | C9: =COUNTIF(OFFSET(E9,0,COUNTA(E9:AM9)-10,1,10),">0") -> 1 | E9: 1 | F9: 0 | G9: 0 | H9: 0 | I9: 0 | J9: 0 | K9: 0 | L9: 0 | M9: 0 | N9: 0 | O9: 0 | P9: 0 | Q9: 0 | R9: 0 | S9: 0 | T9: 0 | U9: 0 | V9: 0 | W9: 0 | X9: 0 | Y9: 0 | Z9: 0 | AA9: 0 | AB9: 0 | AC9: 0 | AD9: 0 | AE9: 0 | AF9: 0 | AG9: 0 | AH9: 0 | AI9: 0 | AJ9: 0 | AK9: 0 | AL9: 0 | AM9: 1 | AN9: 0 | AO9: 0 | AP9: 0 | AQ9: 0
A10: 6 | B10: 1 | C10: =COUNTIF(OFFSET(E10,0,COUNTA(E10:AM10)-10,1,10),">0") -> 1 | E10: 1 | F10: 0 | G10: 0 | H10: 0 | I10: 0 | J10: 0 | K10: 0 | L10: 0 | M10: 0 | N10: 0 | O10: 0 | P10: 0 | Q10: 0 | R10: 0 | S10: 1 | T10: 0 | U10: 0 | V10: 0 | W10: 0 | X10: 0 | Y10: 0 | Z10: 0 | AA10: 1 | AB10: 0 | AC10: 0 | AD10: 0 | AE10: 0 | AF10: 0 | AG10: 0 | AH10: 0 | AI10: 0 | AJ10: 0 | AK10: 1 | AL10: 0 | AM10: 0 | AN10: 0 | AO10: 1 | AP10: 1 | AQ10: 1
A11: 7 | B11: 0 | C11: =COUNTIF(OFFSET(E11,0,COUNTA(E11:AM11)-10,1,10),">0") -> 0 | E11: 0 | F11: 1 | G11: 0 | H11: 0 | I11: 0 | J11: 0 | K11: 0 | L11: 0 | M11: 0 | N11: 0 | O11: 0 | P11: 0 | Q11: 0 | R11: 0 | S11: 0 | T11: 0 | U11: 0 | V11: 0 | W11: 0 | X11: 0 | Y11: 0 | Z11: 0 | AA11: 0 | AB11: 0 | AC11: 0 | AD11: 0 | AE11: 0 | AF11: 0 | AG11: 0 | AH11: 0 | AI11: 0 | AJ11: 0 | AK11: 0 | AL11: 0 | AM11: 0 | AN11: 0 | AO11: 0 | AP11: 0 | AQ11: 0
A12: 8 | B12: 0 | C12: =COUNTIF(OFFSET(E12,0,COUNTA(E12:AM12)-10,1,10),">0") -> 0 | E12: 1 | F12: 0 | G12: 1 | H12: 0 | I12: 1 | J12: 1 | K12: 0 | L12: 1 | M12: 1 | N12: 0 | O12: 0 | P12: 0 | Q12: 0 | R12: 0 | S12: 0 | T12: 0 | U12: 0 | V12: 0 | W12: 0 | X12: 0 | Y12: 1 | Z12: 0 | AA12: 0 | AB12: 0 | AC12: 0 | AD12: 0 | AE12: 0 | AF12: 0 | AG12: 0 | AH12: 0 | AI12: 0 | AJ12: 0 | AK12: 0 | AL12: 0 | AM12: 0 | AN12: 0 | AO12: 0 | AP12: 0 | AQ12: 0
A13: 9 | B13: 1 | C13: =COUNTIF(OFFSET(E13,0,COUNTA(E13:AM13)-10,1,10),">0") -> 1 | E13: 0 | F13: 3 | G13: 1 | H13: 0 | I13: 0 | J13: 0 | K13: 1 | L13: 0 | M13: 0 | N13: 0 | O13: 0 | P13: 0 | Q13: 1 | R13: 0 | S13: 0 | T13: 0 | U13: 0 | V13: 0 | W13: 0 | X13: 0 | Y13: 0 | Z13: 0 | AA13: 0 | AB13: 0 | AC13: 0 | AD13: 0 | AE13: 0 | AF13: 0 | AG13: 0 | AH13: 0 | AI13: 0 | AJ13: 1 | AK13: 0 | AL13: 0 | AM13: 0 | AN13: 0 | AO13: 1 | AP13: 0 | AQ13: 1
A14: 10 | B14: 0 | C14: =COUNTIF(OFFSET(E14,0,COUNTA(E14:AM14)-10,1,10),">0") -> 2 | E14: 1 | F14: 0 | G14: 0 | H14: 1 | I14: 2 | J14: 1 | K14: 1 | L14: 1 | M14: 0 | N14: 0 | O14: 0 | P14: 0 | Q14: 0 | R14: 0 | S14: 0 | T14: 0 | U14: 0 | V14: 1 | W14: 0 | X14: 0 | Y14: 0 | Z14: 0 | AA14: 0 | AB14: 0 | AC14: 0 | AD14: 0 | AE14: 0 | AF14: 1 | AG14: 0 | AH14: 0 | AI14: 0 | AJ14: 0 | AK14: 0 | AL14: 1 | AM14: 0 | AN14: 0 | AO14: 0 | AP14: 1 | AQ14: 0
A15: 11 | B15: 0 | C15: =COUNTIF(OFFSET(E15,0,COUNTA(E15:AM15)-10,1,10),">0") -> 0 | E15: 2 | F15: 1 | G15: 0 | H15: 2 | I15: 1 | J15: 0 | K15: 0 | L15: 0 | M15: 0 | N15: 1 | O15: 0 | P15: 1 | Q15: 0 | R15: 0 | S15: 0 | T15: 0 | U15: 0 | V15: 0 | W15: 0 | X15: 1 | Y15: 0 | Z15: 0 | AA15: 0 | AB15: 0 | AC15: 0 | AD15: 0 | AE15: 0 | AF15: 0 | AG15: 0 | AH15: 0 | AI15: 0 | AJ15: 0 | AK15: 0 | AL15: 0 | AM15: 0 | AN15: 0 | AO15: 0 | AP15: 0 | AQ15: 0
A16: 12 | B16: 0 | C16: =COUNTIF(OFFSET(E16,0,COUNTA(E16:AM16)-10,1,10),">0") -> 0 | E16: 2 | F16: 1 | G16: 0 | H16: 1 | I16: 3 | J16: 0 | K16: 0 | L16: 1 | M16: 0 | N16: 0 | O16: 0 | P16: 0 | Q16: 1 | R16: 0 | S16: 0 | T16: 0 | U16: 1 | V16: 0 | W16: 0 | X16: 0 | Y16: 0 | Z16: 0 | AA16: 0 | AB16: 0 | AC16: 0 | AD16: 0 | AE16: 0 | AF16: 0 | AG16: 0 | AH16: 0 | AI16: 0 | AJ16: 0 | AK16: 0 | AL16: 0 | AM16: 0 | AN16: 0 | AO16: 0 | AP16: 2 | AQ16: 0
... A52: 48 | B52: 0 | C52: =COUNTIF(OFFSET(E52,0,COUNTA(E52:AM52)-10,1,10),">0") -> 1 | E52: 2 | F52: 3 | G52: 0 | H52: 2 | I52: 3 | J52: 0 | K52: 1 | L52: 1 | M52: 0 | N52: 0 | O52: 0 | P52: 0 | Q52: 0 | R52: 0 | S52: 1 | T52: 0 | U52: 0 | V52: 0 | W52: 0 | X52: 0 | Y52: 0 | Z52: 0 | AA52: 0 | AB52: 0 | AC52: 0 | AD52: 0 | AE52: 0 | AF52: 0 | AG52: 1 | AH52: 0 | AI52: 0 | AJ52: 0 | AK52: 0 | AL52: 0 | AM52: 0 | AN52: 0 | AO52: 0 | AP52: 0 | AQ52: 0
A53: 49 | B53: 0 | C53: =COUNTIF(OFFSET(E53,0,COUNTA(E53:AM53)-10,1,10),">0") -> 1 | E53: 1 | F53: 1 | G53: 0 | H53: 0 | I53: 1 | J53: 1 | K53: 0 | L53: 0 | M53: 0 | N53: 0 | O53: 0 | P53: 0 | Q53: 0 | R53: 0 | S53: 0 | T53: 0 | U53: 0 | V53: 0 | Y53: 1 | Z53: 0 | AA53: 0 | AB53: 0 | AC53: 0 | AD53: 0 | AE53: 0 | AF53: 0 | AG53: 0 | AH53: 0 | AI53: 0 | AJ53: 0 | AK53: 1 | AL53: 1 | AM53: 2 | AN53: exp | AO53: 0 | AP53: 1 | AQ53: 0
A54: 50 | B54: 0 | C54: =COUNTIF(OFFSET(E54,0,COUNTA(E54:AM54)-10,1,10),">0") -> 0 | E54: - | F54: - | G54: - | H54: - | I54: - | J54: - | K54: - | L54: - | M54: - | N54: 0 | O54: 0 | P54: 0 | Q54: 0 | R54: 0 | S54: 0 | T54: 0 | U54: 0 | V54: 0 | W54: 0 | X54: 0 | Y54: 0 | Z54: 0 | AA54: 0 | AB54: 0 | AC54: 0 | AD54: 0 | AE54: 0 | AF54: 0 | AG54: 0 | AH54: 0 | AI54: 0 | AJ54: 0 | AK54: 0 | AL54: 0 | AM54: 0 | AN54: 0 | AO54: 0 | AP54: 0 | AQ54: 0
A55: 51 | B55: 1 | C55: =COUNTIF(OFFSET(E55,0,COUNTA(E55:AM55)-10,1,10),">0") -> 1 | E55: - | F55: - | G55: - | H55: - | I55: - | J55: - | K55: - | L55: - | M55: - | N55: 0 | O55: 0 | P55: 0 | Q55: 1 | R55: 0 | S55: 0 | T55: 0 | U55: 2 | V55: 0 | W55: 0 | X55: 1 | Y55: 0 | Z55: 0 | AA55: 1 | AB55: 0 | AC55: 0 | AD55: 0 | AE55: 0 | AF55: 0 | AG55: 0 | AH55: 0 | AI55: 0 | AJ55: 1 | AK55: 0 | AL55: 0 | AM55: 0 | AN55: 0 | AO55: 0 | AP55: 3 | AQ55: 1
A56: 52 | B56: 0 | C56: =COUNTIF(OFFSET(E56,0,COUNTA(E56:AM56)-10,1,10),">0") -> 1 | E56: - | F56: - | G56: - | H56: - | I56: - | J56: - | K56: - | L56: - | M56: - | N56: - | O56: - | P56: - | Q56: - | R56: - | S56: - | T56: - | U56: - | V56: - | W56: - | X56: - | Y56: - | Z56: - | AA56: - | AB56: - | AC56: 0 | AD56: 0 | AE56: 0 | AF56: 0 | AG56: 0 | AH56: 0 | AI56: 0 | AJ56: 1 | AK56: 0 | AL56: 0 | AM56: 0 | AN56: 0 | AO56: 0 | AP56: 0 | AQ56: 0
A57: 53 | B57: 0 | C57: =COUNTIF(OFFSET(E57,0,COUNTA(E57:AM57)-10,1,10),">0") -> 1 | E57: - | F57: - | G57: - | H57: - | I57: - | J57: - | K57: - | L57: - | M57: - | N57: - | O57: - | P57: - | Q57: - | R57: - | S57: - | T57: - | U57: - | V57: - | W57: - | X57: - | Y57: - | Z57: - | AA57: - | AB57: - | AC57: 0 | AD57: 0 | AE57: 0 | AF57: 0 | AG57: 0 | AH57: 0 | AI57: 0 | AJ57: 0 | AK57: 0 | AL57: 2 | AM57: 0 | AN57: 0 | AO57: 1 | AP57: 0 | AQ57: 0
A58: 54 | B58: 0 | C58: =COUNTIF(OFFSET(E58,0,COUNTA(E58:AM58)-10,1,10),">0") -> 2 | E58: - | F58: - | G58: - | H58: - | I58: - | J58: - | K58: - | L58: - | M58: - | N58: - | O58: - | P58: - | Q58: - | R58: - | S58: - | T58: - | U58: - | V58: - | W58: - | X58: - | Y58: - | Z58: - | AA58: - | AB58: - | AC58: 0 | AD58: 1 | AE58: 0 | AF58: 0 | AG58: 0 | AH58: 0 | AI58: 0 | AJ58: 0 | AK58: 1 | AL58: 0 | AM58: 0 | AN58: 0 | AO58: 0 | AP58: 0 | AQ58: 0
A59: 55 | B59: 0 | C59: =COUNTIF(OFFSET(E59,0,COUNTA(E59:AM59)-10,1,10),">0") -> 1 | E59: - | F59: - | G59: - | H59: - | I59: - | J59: - | K59: - | L59: - | M59: - | N59: - | O59: - | P59: - | Q59: - | R59: - | S59: - | T59: - | U59: - | V59: - | W59: - | X59: - | Y59: - | Z59: - | AA59: - | AB59: - | AC59: 0 | AD59: 0 | AE59: 0 | AF59: 0 | AG59: 0 | AH59: 0 | AI59: 0 | AJ59: 0 | AK59: 0 | AL59: 3 | AM59: 0 | AN59: 0 | AO59: 0 | AP59: 0 | AQ59: 0
A60: 56 | B60: 0 | C60: =COUNTIF(OFFSET(E60,0,COUNTA(E60:AM60)-10,1,10),">0") -> 1 | E60: - | F60: - | G60: - | H60: - | I60: - | J60: - | K60: - | L60: - | M60: - | N60: - | O60: - | P60: - | Q60: - | R60: - | S60: - | T60: - | U60: - | V60: - | W60: - | X60: - | Y60: - | Z60: - | AA60: - | AB60: - | AC60: 0 | AD60: 0 | AE60: 0 | AF60: 0 | AG60: 1 | AH60: 0 | AI60: 0 | AJ60: 0 | AK60: 0 | AL60: 0 | AM60: 0 | AN60: 0 | AO60: 0 | AP60: 0 | AQ60: 0
A62: G7
A63: 1 | B63: 0 | C63: =COUNTIF(OFFSET(E63,0,COUNTA(E63:AM63)-10,1,10),">0") -> 2 | E63: 2 | F63: 0 | G63: 1 | H63: 2 | I63: 1 | J63: 0 | K63: 0 | L63: 1 | M63: 0 | N63: 0 | O63: 3 | P63: 3 | Q63: 0 | R63: 0 | S63: 0 | T63: 0 | U63: 0 | V63: 0 | W63: 0 | X63: 0 | Y63: 0 | Z63: 0 | AA63: 0 | AB63: 0 | AC63: 0 | AD63: 0 | AF63: 0 | AG63: 0 | AH63: 0 | AI63: 0 | AJ63: 0 | AK63: 3 | AL63: 1 | AM63: 0 | AN63: 0 | AO63: 0 | AP63: 1 | AQ63: 0
A64: 2 | B64: 0 | C64: =COUNTIF(OFFSET(E64,0,COUNTA(E64:AM64)-10,1,10),">0") -> 2 | E64: 1 | F64: 0 | G64: 1 | H64: 1 | I64: 2 | J64: 0 | K64: 0 | L64: 0 | M64: 0 | N64: 0 | O64: 0 | P64: 0 | Q64: 0 | R64: 0 | S64: 0 | T64: 0 | U64: 0 | V64: 0 | W64: 0 | X64: 0 | Y64: 0 | Z64: 0 | AA64: 0 | AB64: 0 | AC64: 1 | AD64: 0 | AF64: 0 | AG64: 0 | AH64: 0 | AI64: 0 | AJ64: 0 | AK64: 2 | AL64: 0 | AM64: 0 | AN64: 1 | AO64: 1 | AP64: 2 | AQ64: 0
A65: 3 | B65: 0 | C65: =COUNTIF(OFFSET(E65,0,COUNTA(E65:AM65)-10,1,10),">0") -> 2 | E65: 1 | F65: 1 | G65: 1 | H65: 0 | I65: 3 | J65: 4 | K65: 0 | L65: 0 | M65: 0 | N65: 0 | O65: 0 | P65: 0 | Q65: 0 | R65: 0 | S65: 0 | T65: 0 | U65: 0 | V65: 0 | W65: 0 | X65: 0 | Y65: 0 | Z65: 0 | AA65: 0 | AB65: 0 | AC65: 1 | AD65: 0 | AF65: 0 | AG65: 0 | AH65: 0 | AI65: 0 | AJ65: 0 | AK65: 1 | AL65: 0 | AM65: 0 | AN65: 0 | AO65: 0 | AP65: 1 | AQ65: 0
A66: 4 | B66: 1 | C66: =COUNTIF(OFFSET(E66,0,COUNTA(E66:AM66)-10,1,10),">0") -> 2 | E66: 0 | F66: 2 | G66: 0 | H66: 0 | I66: 0 | J66: 0 | K66: 1 | L66: 1 | M66: 0 | N66: 0 | O66: 0 | P66: 0 | Q66: 0 | R66: 0 | S66: 0 | T66: 0 | U66: 0 | V66: 0 | W66: 0 | X66: 0 | Y66: 0 | Z66: 0 | AA66: 0 | AB66: 1 | AC66: 0 | AD66: 0 | AF66: 0 | AG66: 0 | AH66: 0 | AI66: 0 | AJ66: 0 | AK66: 3 | AL66: 2 | AM66: 0 | AN66: 0 | AO66: 0 | AP66: 1 | AQ66: 1
A67: 5 | B67: 0 | C67: =COUNTIF(OFFSET(E67,0,COUNTA(E67:AM67)-10,1,10),">0") -> 3 | E67: 1 | F67: 2 | G67: 0 | H67: 0 | I67: 1 | J67: 0 | K67: 0 | L67: 0 | M67: 0 | N67: 0 | O67: 0 | P67: 0 | Q67: 0 | R67: 0 | S67: 0 | T67: 0 | U67: 0 | V67: 0 | W67: 0 | X67: 0 | Y67: 0 | Z67: 0 | AA67: 1 | AB67: 1 | AC67: 1 | AD67: 0 | AF67: 0 | AG67: 0 | AH67: 0 | AI67: 0 | AJ67: 0 | AK67: 2 | AL67: 1 | AM67: 0 | AN67: 0 | AO67: 0 | AP67: 3 | AQ67: 0
A68: 6 | B68: 1 | C68: =COUNTIF(OFFSET(E68,0,COUNTA(E68:AM68)-10,1,10),">0") -> 3 | E68: 5 | F68: 3 | G68: 2 | H68: 1 | I68: 0 | J68: 0 | K68: 1 | L68: 0 | M68: 0 | N68: 0 | O68: 0 | P68: 0 | Q68: 0 | R68: 0 | S68: 0 | T68: 1 | U68: 0 | V68: 0 | W68: 0 | X68: 0 | Y68: 0 | Z68: 0 | AA68: 0 | AB68: 0 | AC68: 1 | AD68: 1 | AF68: 0 | AG68: 2 | AH68: 0 | AI68: 0 | AJ68: 0 | AK68: 0 | AL68: 0 | AM68: 0 | AN68: 0 | AO68: 0 | AP68: 1 | AQ68: 1
A69: 7 | B69: 2 | C69: =COUNTIF(OFFSET(E69,0,COUNTA(E69:AM69)-10,1,10),">0") -> 3 | E69: 5 | F69: 3 | G69: 5 | H69: 1 | I69: 3 | J69: 0 | K69: 0 | L69: 1 | M69: 0 | N69: 0 | O69: 0 | P69: 0 | Q69: 0 | R69: 0 | S69: 1 | T69: 0 | U69: 0 | V69: 0 | W69: 0 | X69: 0 | Y69: 0 | Z69: 0 | AA69: 0 | AB69: 1 | AC69: 1 | AD69: 0 | AF69: 1 | AG69: 0 | AH69: 0 | AI69: 0 | AJ69: 0 | AK69: 3 | AL69: 0 | AM69: 3 | AN69: 3 | AO69: 1 | AP69: 2 | AQ69: 2
A70: 8 | B70: 0 | C70: =COUNTIF(OFFSET(E70,0,COUNTA(E70:AM70)-10,1,10),">0") -> 3 | E70: 3 | F70: 3 | G70: 0 | H70: 0 | I70: 2 | J70: 1 | K70: 0 | L70: 1 | M70: 0 | N70: 0 | O70: 0 | P70: 0 | Q70: 0 | R70: 0 | S70: 0 | T70: 0 | U70: 0 | V70: 0 | W70: 0 | X70: 0 | Y70: 0 | Z70: 0 | AA70: 0 | AB70: 0 | AC70: 2 | AD70: 1 | AF70: 0 | AG70: 0 | AH70: 0 | AI70: 0 | AJ70: 0 | AK70: 2 | AL70: 0 | AM70: 1 | AN70: 0 | AO70: 0 | AP70: 1 | AQ70: 0
A71: 9 | B71: 0 | C71: =COUNTIF(OFFSET(E71,0,COUNTA(E71:AM71)-10,1,10),">0") -> 2 | E71: 2 | F71: 1 | G71: 1 | H71: 0 | I71: 1 | J71: 0 | K71: 0 | L71: 0 | M71: 0 | N71: 0 | O71: 0 | P71: 0 | Q71: 0 | R71: 0 | S71: 0 | T71: 0 | U71: 0 | V71: 0 | W71: 0 | X71: 0 | Y71: 0 | Z71: 0 | AA71: 0 | AB71: 0 | AC71: 0 | AD71: 0 | AF71: 0 | AG71: 0 | AH71: 0 | AI71: 0 | AJ71: 0 | AK71: 4 | AL71: 4 | AM71: 0 | AN71: 2 | AO71: 0 | AP71: 1 | AQ71: 0
A72: 10 | B72: 0 | C72: =COUNTIF(OFFSET(E72,0,COUNTA(E72:AM72)-10,1,10),">0") -> 2 | E72: 2 | F72: 1 | G72: 1 | H72: 1 | I72: 3 | J72: 1 | K72: 0 | L72: 0 | M72: 1 | N72: 0 | O72: 0 | P72: 0 | Q72: 0 | R72: 0 | S72: 0 | T72: 0 | U72: 0 | V72: 0 | W72: 0 | X72: 0 | Y72: 0 | Z72: 0 | AA72: 0 | AB72: 0 | AC72: 0 | AD72: 0 | AF72: 1 | AG72: 0 | AH72: 0 | AI72: 0 | AJ72: 0 | AK72: 6 | AL72: 0 | AM72: 1 | AN72: 2 | AO72: 0 | AP72: 0 | AQ72: 0

Sheet LASIODERMA SERRICONE JND 2
E1: Maio | J1: Junho | N1: Julho | R1: Agosto | W1: Setembro | AA1: Outubro | AE1: Novembro | AI1: Dezembro
A2: Armadilha | B2: Última Leitura | C2: Nº de semanas | D2: Data da Leitura: | E2: 45782 | F2: 45789 | G2: 45796 | H2: 45803 | I2: 45810 | J2: 45817 | K2: 45824 | L2: 45831 | M2: 45838 | N2: 45845 | O2: 45852 | P2: 45859 | Q2: 45866 | R2: 45873 | S2: 45880 | T2: 45887 | U2: 45894 | V2: 45901 | W2: 45908 | X2: 45915 | Y2: 45922 | Z2: 45929 | AA2: 45936 | AB2: 45943 | AC2: 45950 | AD2: 45957 | AE2: 45964 | AF2: 45971 | AG2: 45978 | AH2: 45985 | AI2: 45992 | AJ2: 45999 | AK2: 46006 | AL2: 46013 | AM2: 46020 | AN2: 46027 | AO2: 46034 | AP2: 46041 | AQ2: 46048
E3: Semana 18 | F3: Semana 19 | G3: Semana 20 | H3: Semana 21 | I3: Semana 22 | J3: Semana 23 | K3: Semana 24 | L3: Semana 25 | M3: Semana 26 | N3: Semana 27 | O3: Semana 28 | P3: Semana 29 | Q3: Semana 30 | R3: Semana 31 | S3: Semana 32 | T3: Semana 33 | U3: Semana 34 | V3: Semana 35 | W3: Semana 36 | X3: Semana 37 | Y3: Semana 38 | Z3: Semana 39 | AA3: Semana 40 | AB3: Semana 41 | AC3: Semana 42 | AD3: Semana 43 | AE3: Semana 44 | AF3: Semana 45 | AG3: Semana 46 | AH3: Semana 47 | AI3: Semana 48 | AJ3: Semana 49 | AK3: Semana 50 | AL3: Semana 51 | AM3: Semana 52
C4: R- | E4: 28/04 - 04/05 | F4: 05/05 - 11/05 | G4: 12/05 - 18/05 | H4: 19/05 - 25/05 | I4: 26/05 - 01/06 | J4: 02/06 - 08/06 | K4: 09/06 - 15/06 | L4: 16/06 - 22/06 | M4: 23/06 - 29/06 | N4: 30/06 - 06/07 | O4: 07/07 - 13/07 | P4: 14/07 - 20/07 | Q4: 21/07 - 27/07 | R4: 28/07 - 03/08 | S4: 04/08 -10/08 | T4: 11/08 - 17/08 | U4: 18/08 - 24/08 | V4: 25/08 - 31/08 | W4: 01/09 - 07/09 | X4: 08/09 - 14/09 | Y4: 18/09 - 21/09 | Z4: 22/09-28/09 | AA4: 29/09 - 05/10 | AB4: 06/10 - 12/10 | AC4: 13/10 - 19/10 | AD4: 20/10 - 26/10 | AE4: 27/10 - 02/11 | AF4: 03/11 - 09/11 | AG4: 10/11 - 16/11 | AH4: 17/11 - 23/11 | AI4: 24/11 - 30/11 | AJ4: 01/12 - 07/12 | AK4: 08/12 - 14/12 | AL4: 15/12 - 21/12 | AM4: 22/12 - 28/12
A5: 1 | B5: 0 | C5: =COUNTIF(OFFSET(E5,0,COUNTA(E5:AM5)-10,1,10),">0") -> 0 | E5: 0 | F5: 0 | G5: 1 | H5: 0 | I5: 1 | J5: 0 | K5: 0 | L5: 0 | M5: 0 | N5: 0 | O5: 0 | P5: 0 | Q5: 0 | R5: 0 | S5: 1 | T5: 0 | U5: 0 | V5: 0 | W5: 0 | X5: 0 | Y5: 0 | Z5: 0 | AA5: 0 | AB5: 0 | AC5: 0 | AD5: 0 | AE5: 0 | AF5: 0 | AG5: 0 | AH5: 0 | AI5: 0 | AJ5: 0 | AK5: 0 | AL5: 0 | AM5: 0 | AN5: 0 | AO5: 0 | AP5: 0 | AQ5: 0
A6: 2 | B6: 0 | C6: =COUNTIF(OFFSET(E6,0,COUNTA(E6:AM6)-10,1,10),">0") -> 0 | E6: 0 | F6: 0 | G6: 1 | H6: 1 | I6: 0 | J6: 1 | K6: 1 | L6: 0 | M6: 0 | N6: 0 | O6: 0 | P6: 0 | Q6: 0 | R6: 0 | S6: 0 | T6: 0 | U6: 1 | V6: 0 | W6: 0 | X6: 0 | Y6: 0 | Z6: 0 | AA6: 0 | AB6: 1 | AC6: 0 | AD6: 0 | AE6: 0 | AF6: 0 | AG6: 0 | AH6: 0 | AI6: 0 | AJ6: 0 | AK6: 0 | AL6: 0 | AM6: 0 | AN6: 0 | AO6: 0 | AP6: 0 | AQ6: 0
A7: 3 | B7: 0 | C7: =COUNTIF(OFFSET(E7,0,COUNTA(E7:AM7)-10,1,10),">0") -> 0 | E7: 0 | F7: 0 | G7: 0 | H7: 0 | I7: 1 | J7: 0 | K7: 0 | L7: 0 | M7: 0 | N7: 0 | O7: 0 | P7: 0 | Q7: 0 | R7: 0 | S7: 0 | T7: 0 | U7: 0 | V7: 0 | W7: 0 | X7: 0 | Y7: 0 | Z7: 0 | AA7: 0 | AB7: 0 | AC7: 0 | AD7: 0 | AE7: 0 | AF7: 0 | AG7: 0 | AH7: 0 | AI7: 0 | AJ7: 0 | AK7: 0 | AL7: 0 | AM7: 0 | AN7: 0 | AO7: 0 | AP7: 0 | AQ7: 0
A8: 4 | B8: 0 | C8: =COUNTIF(OFFSET(E8,0,COUNTA(E8:AM8)-10,1,10),">0") -> 0 | E8: 0 | F8: 0 | G8: 0 | H8: 1 | I8: 1 | J8: 1 | K8: 0 | L8: 0 | M8: 1 | N8: 0 | O8: 0 | P8: 0 | Q8: 0 | R8: 0 | S8: 0 | T8: 0 | U8: 0 | V8: 0 | W8: 0 | X8: 0 | Y8: 0 | Z8: 0 | AA8: 0 | AB8: 0 | AC8: 0 | AD8: 0 | AE8: 0 | AF8: 0 | AG8: 0 | AH8: 0 | AI8: 0 | AJ8: 0 | AK8: 0 | AL8: 0 | AM8: 0 | AN8: 0 | AO8: 0 | AP8: 0 | AQ8: 0
A9: 5 | B9: 0 | C9: =COUNTIF(OFFSET(E9,0,COUNTA(E9:AM9)-10,1,10),">0") -> 0 | E9: 0 | F9: 0 | G9: 0 | H9: 0 | I9: 0 | J9: 0 | K9: 0 | L9: 0 | M9: 0 | N9: 0 | O9: 0 | P9: 0 | Q9: 0 | R9: 0 | S9: 0 | T9: 0 | U9: 0 | V9: 0 | W9: 0 | X9: 0 | Y9: 0 | Z9: 0 | AA9: 0 | AB9: 0 | AC9: 0 | AD9: 0 | AE9: 0 | AF9: 0 | AG9: 0 | AH9: 0 | AI9: 0 | AJ9: 0 | AK9: 0 | AL9: 0 | AM9: 0 | AN9: 0 | AO9: 0 | AP9: 0 | AQ9: 0
A10: 6 | B10: 0 | C10: =COUNTIF(OFFSET(E10,0,COUNTA(E10:AM10)-10,1,10),">0") -> 1 | E10: 1 | F10: 1 | G10: 0 | H10: 0 | I10: 0 | J10: 0 | K10: 0 | L10: 0 | M10: 0 | N10: 0 | O10: 0 | P10: 0 | Q10: 0 | R10: 0 | S10: 0 | T10: 0 | U10: 0 | V10: 0 | W10: 0 | X10: 0 | Y10: 0 | Z10: 0 | AA10: 0 | AB10: 0 | AC10: 0 | AD10: 0 | AE10: 0 | AF10: 0 | AG10: 0 | AH10: 0 | AI10: 0 | AJ10: 0 | AK10: 0 | AL10: 1 | AM10: 0 | AN10: 0 | AO10: 0 | AP10: 0 | AQ10: 0
A11: 7 | B11: 0 | C11: =COUNTIF(OFFSET(E11,0,COUNTA(E11:AM11)-10,1,10),">0") -> 0 | E11: 1 | F11: 0 | G11: 2 | H11: 1 | I11: 0 | J11: 0 | K11: 0 | L11: 0 | M11: 0 | N11: 0 | O11: 0 | P11: 0 | Q11: 0 | R11: 0 | S11: 0 | T11: 0 | U11: 0 | V11: 0 | W11: 0 | X11: 0 | Y11: 0 | Z11: 0 | AA11: 0 | AB11: 0 | AC11: 1 | AD11: 0 | AE11: 0 | AF11: 0 | AG11: 0 | AH11: 0 | AI11: 0 | AJ11: 0 | AK11: 0 | AL11: 0 | AM11: 0 | AN11: 0 | AO11: 0 | AP11: 0 | AQ11: 0
A12: 8 | B12: 0 | C12: =COUNTIF(OFFSET(E12,0,COUNTA(E12:AM12)-10,1,10),">0") -> 0 | E12: 1 | F12: 1 | G12: 0 | H12: 3 | I12: 0 | J12: 0 | K12: 0 | L12: 0 | M12: 0 | N12: 0 | O12: 0 | P12: 0 | Q12: 0 | R12: 0 | S12: 0 | T12: 0 | U12: 0 | V12: 0 | W12: 0 | X12: 0 | Y12: 0 | Z12: 0 | AA12: 0 | AB12: 0 | AC12: 1 | AD12: 0 | AE12: 0 | AF12: 0 | AG12: 0 | AH12: 0 | AI12: 0 | AJ12: 0 | AK12: 0 | AL12: 0 | AM12: 0 | AN12: 0 | AO12: 0 | AP12: 0 | AQ12: 0
A13: 9 | B13: 0 | C13: =COUNTIF(OFFSET(E13,0,COUNTA(E13:AM13)-10,1,10),">0") -> 1 | E13: 2 | F13: 1 | G13: 2 | H13: 0 | I13: 0 | J13: 0 | K13: 0 | L13: 0 | M13: 0 | N13: 0 | O13: 0 | P13: 0 | Q13: 0 | R13: 0 | S13: 0 | T13: 0 | U13: 0 | V13: 0 | W13: 0 | X13: 0 | Y13: 0 | Z13: 0 | AA13: 0 | AB13: 1 | AC13: 0 | AD13: 0 | AE13: 0 | AF13: 0 | AG13: 0 | AH13: 0 | AI13: 0 | AJ13: 0 | AK13: 0 | AL13: 0 | AM13: 1 | AN13: 0 | AO13: 0 | AP13: 0 | AQ13: 0
A14: 10 | B14: 0 | C14: =COUNTIF(OFFSET(E14,0,COUNTA(E14:AM14)-10,1,10),">0") -> 0 | E14: 1 | F14: 1 | G14: 0 | H14: 2 | I14: 0 | J14: 0 | K14: 0 | L14: 0 | M14: 0 | N14: 0 | O14: 0 | P14: 0 | Q14: 0 | R14: 0 | S14: 0 | T14: 0 | U14: 0 | V14: 0 | W14: 0 | X14: 0 | Y14: 0 | Z14: 0 | AA14: 0 | AB14: 0 | AC14: 0 | AD14: 0 | AE14: 0 | AF14: 0 | AG14: 0 | AH14: 0 | AI14: 0 | AJ14: 0 | AK14: 0 | AL14: 0 | AM14: 0 | AN14: 0 | AO14: 0 | AP14: 0 | AQ14: 0
A15: 11 | B15: 0 | C15: =COUNTIF(OFFSET(E15,0,COUNTA(E15:AM15)-10,1,10),">0") -> 0 | E15: 0 | F15: 0 | G15: 1 | H15: 0 | I15: 0 | J15: 0 | K15: 0 | L15: 0 | M15: 0 | N15: 0 | O15: 0 | P15: 0 | Q15: 0 | R15: 0 | S15: 0 | T15: 0 | U15: 0 | V15: 0 | W15: 0 | X15: 0 | Y15: 0 | Z15: 0 | AA15: 0 | AB15: 0 | AC15: 0 | AD15: 0 | AE15: 0 | AF15: 0 | AG15: 0 | AH15: 0 | AI15: 0 | AJ15: 0 | AK15: 0 | AL15: 0 | AM15: 0 | AN15: 0 | AO15: 0 | AP15: 0 | AQ15: 0
A16: 12 | B16: 0 | C16: =COUNTIF(OFFSET(E16,0,COUNTA(E16:AM16)-10,1,10),">0") -> 0 | E16: 0 | F16: 2 | G16: 0 | H16: 0 | I16: 0 | J16: 0 | K16: 0 | L16: 0 | M16: 0 | N16: 0 | O16: 0 | P16: 0 | Q16: 0 | R16: 0 | S16: 1 | T16: 0 | U16: 0 | V16: 0 | W16: 0 | X16: 0 | Y16: 0 | Z16: 0 | AA16: 0 | AB16: 1 | AC16: 0 | AD16: 0 | AE16: 0 | AF16: 0 | AG16: 0 | AH16: 0 | AI16: 0 | AJ16: 0 | AK16: 0 | AL16: 0 | AM16: 0 | AN16: 0 | AO16: 0 | AP16: 0 | AQ16: 0
... A38: 34 | B38: 0 | C38: =COUNTIF(OFFSET(E38,0,COUNTA(E38:AM38)-10,1,10),">0") -> 0 | E38: 0 | F38: 0 | G38: 0 | H38: 0 | I38: 0 | J38: 0 | K38: 0 | L38: 0 | M38: 0 | N38: 0 | O38: 0 | P38: 0 | Q38: 0 | R38: 0 | S38: 0 | T38: 0 | U38: 0 | V38: 0 | W38: 0 | X38: 0 | Y38: 0 | Z38: 0 | AA38: 0 | AB38: 0 | AC38: 0 | AD38: 0 | AE38: 0 | AF38: 0 | AG38: 0 | AH38: 0 | AI38: 0 | AJ38: 0 | AK38: 0 | AL38: 0 | AM38: 0 | AN38: 0 | AO38: 0 | AP38: 0 | AQ38: 0
A39: 35 | B39: 0 | C39: =COUNTIF(OFFSET(E39,0,COUNTA(E39:AM39)-10,1,10),">0") -> 0 | E39: - | F39: - | G39: - | H39: - | I39: - | J39: - | K39: 0 | L39: 0 | M39: 0 | N39: 0 | O39: 0 | P39: 0 | Q39: 0 | R39: 0 | S39: 0 | T39: 0 | U39: 0 | V39: 0 | W39: 0 | X39: 0 | Y39: 0 | Z39: 0 | AA39: 0 | AB39: 0 | AC39: 0 | AD39: 0 | AE39: 0 | AF39: 0 | AG39: 0 | AH39: 0 | AI39: 0 | AJ39: 0 | AK39: 0 | AL39: 0 | AM39: 0 | AN39: 0 | AO39: 0 | AP39: 0 | AQ39: 0
A40: 36 | B40: 0 | C40: =COUNTIF(OFFSET(E40,0,COUNTA(E40:AM40)-10,1,10),">0") -> 0 | E40: - | F40: - | G40: - | H40: - | I40: - | J40: - | K40: 0 | L40: 0 | M40: 0 | N40: 0 | O40: 0 | P40: 0 | Q40: 0 | R40: 0 | S40: 0 | T40: 0 | U40: 0 | V40: 0 | W40: 0 | X40: 0 | Y40: 0 | Z40: 0 | AA40: 0 | AB40: 0 | AC40: 0 | AD40: 0 | AE40: 0 | AF40: 0 | AG40: 0 | AH40: 0 | AI40: 0 | AJ40: 0 | AK40: 0 | AL40: 0 | AM40: 0 | AN40: 0 | AO40: 0 | AP40: 1 | AQ40: 0
A41: 37 | B41: 0 | C41: =COUNTIF(OFFSET(E41,0,COUNTA(E41:AM41)-10,1,10),">0") -> 0 | E41: - | F41: - | G41: - | H41: - | I41: - | J41: - | K41: 0 | L41: 0 | M41: 0 | N41: 0 | O41: 0 | P41: 0 | Q41: 0 | R41: 0 | S41: 0 | T41: 0 | U41: 0 | V41: 0 | W41: 0 | X41: 0 | Y41: 0 | Z41: 0 | AA41: 0 | AB41: 0 | AC41: 0 | AD41: 0 | AE41: 0 | AF41: 0 | AG41: 0 | AH41: 0 | AI41: 0 | AJ41: 0 | AK41: 0 | AL41: 0 | AM41: 0 | AN41: 0 | AO41: 0 | AP41: 0 | AQ41: 0
A42: 38 | B42: 0 | C42: =COUNTIF(OFFSET(E42,0,COUNTA(E42:AM42)-10,1,10),">0") -> 0 | E42: - | F42: - | G42: - | H42: - | I42: - | J42: - | K42: 0 | L42: 0 | M42: 0 | N42: 0 | O42: 0 | P42: 0 | Q42: 0 | R42: 0 | S42: 0 | T42: 0 | U42: 0 | V42: 0 | W42: 0 | X42: 0 | Y42: 0 | Z42: 0 | AA42: 0 | AB42: 0 | AC42: 1 | AD42: 0 | AE42: 0 | AF42: 0 | AG42: 0 | AH42: 0 | AI42: 0 | AJ42: 0 | AK42: 0 | AL42: 0 | AM42: 0 | AN42: 0 | AO42: 0 | AP42: 0 | AQ42: 0
A43: 39 | B43: 0 | C43: =COUNTIF(OFFSET(E43,0,COUNTA(E43:AM43)-10,1,10),">0") -> 1 | E43: - | F43: - | G43: - | H43: - | I43: - | J43: - | K43: - | L43: 0 | M43: 0 | N43: 0 | O43: 0 | P43: 0 | Q43: 0 | R43: 0 | S43: 0 | T43: 0 | U43: 0 | V43: 0 | W43: 0 | X43: 1 | Y43: 0 | Z43: 0 | AA43: 0 | AB43: 1 | AC43: 1 | AD43: 0 | AE43: 0 | AF43: 0 | AG43: 0 | AH43: 0 | AI43: 0 | AJ43: 1 | AK43: 0 | AL43: 0 | AM43: 0 | AN43: 0 | AO43: 0 | AP43: 0 | AQ43: 0
A44: 40 | B44: 0 | C44: =COUNTIF(OFFSET(E44,0,COUNTA(E44:AM44)-10,1,10),">0") -> 0 | E44: - | F44: - | G44: - | H44: - | I44: - | J44: - | K44: - | L44: - | M44: - | N44: - | O44: - | P44: - | Q44: - | R44: 0 | S44: 3 | T44: 0 | U44: 1 | V44: 0 | W44: 3 | X44: 2 | Y44: 1 | Z44: 0 | AA44: 1 | AB44: 0 | AC44: 2 | AD44: 0 | AE44: 0 | AF44: 0 | AG44: 0 | AH44: 0 | AI44: 0 | AJ44: 0 | AK44: 0 | AL44: 0 | AM44: 0 | AN44: 0 | AO44: 0 | AP44: 0 | AQ44: 0
A45: 41 | B45: 0 | C45: =COUNTIF(OFFSET(E45,0,COUNTA(E45:AM45)-10,1,10),">0") -> 0 | E45: - | F45: - | G45: - | H45: - | I45: - | J45: - | K45: - | L45: - | M45: - | N45: - | O45: - | P45: - | Q45: - | R45: - | S45: - | T45: - | U45: - | V45: - | W45: - | X45: - | Y45: - | Z45: - | AA45: - | AB45: - | AC45: - | AD45: 0 | AE45: 0 | AF45: 0 | AG45: 0 | AH45: 0 | AI45: 0 | AJ45: 0 | AK45: 0 | AL45: 0 | AM45: 0 | AN45: 0 | AO45: 0 | AP45: 0 | AQ45: 0
A46: 42 | B46: 0 | C46: =COUNTIF(OFFSET(E46,0,COUNTA(E46:AM46)-10,1,10),">0") -> 0 | E46: - | F46: - | G46: - | H46: - | I46: - | J46: - | K46: - | L46: - | M46: - | N46: - | O46: - | P46: - | Q46: - | R46: - | S46: - | T46: - | U46: - | V46: - | W46: - | X46: - | Y46: - | Z46: - | AA46: - | AB46: - | AC46: - | AD46: 0 | AE46: 0 | AF46: 0 | AG46: 0 | AH46: 0 | AI46: 0 | AJ46: 0 | AK46: 0 | AL46: 0 | AM46: 0 | AN46: 0 | AO46: 0 | AP46: 0 | AQ46: 0
A47: 43 | B47: 0 | C47: =COUNTIF(OFFSET(E47,0,COUNTA(E47:AM47)-10,1,10),">0") -> 0 | E47: - | F47: - | G47: - | H47: - | I47: - | J47: - | K47: - | L47: - | M47: - | N47: - | O47: - | P47: - | Q47: - | R47: - | S47: - | T47: - | U47: - | V47: - | W47: - | X47: - | Y47: - | Z47: - | AA47: - | AB47: - | AC47: - | AD47: 0 | AE47: 0 | AF47: 0 | AG47: 0 | AH47: 0 | AI47: 0 | AJ47: 0 | AK47: 0 | AL47: 0 | AM47: 0 | AN47: 0 | AO47: 0 | AP47: 0 | AQ47: 0
A48: 44 | B48: 0 | C48: =COUNTIF(OFFSET(E48,0,COUNTA(E48:AM48)-10,1,10),">0") -> 0 | E48: - | F48: - | G48: - | H48: - | I48: - | J48: - | K48: - | L48: - | M48: - | N48: - | O48: - | P48: - | Q48: - | R48: - | S48: - | T48: - | U48: - | V48: - | W48: - | X48: - | Y48: - | Z48: - | AA48: - | AB48: - | AC48: - | AD48: 0 | AE48: 0 | AF48: 0 | AG48: 0 | AH48: 0 | AI48: 0 | AJ48: 0 | AK48: 0 | AL48: 0 | AM48: 0 | AN48: 0 | AO48: 0 | AP48: 0 | AQ48: 0
A49: 45 | B49: 0 | AF49: 1 | AG49: 1 | AH49: 0 | AI49: 0 | AJ49: 0 | AK49: 0 | AL49: 1 | AM49: 0 | AN49: 0 | AO49: 0 | AP49: 0 | AQ49: 0

Sheet TRIBOLIUM CASTANEUM
A1: G1 G2 G3 G3 e G5 | K1: JND 2 - G1, G2 e G3
A2: Armadilha | B2: Última Leitura | D2: 46020 | E2: 46027 | F2: 46034 | G2: 46041 | H2: 46041 | I2: 46048 | K2: Armadilha | L2: Última Leitura | M2: 46013 | N2: 46020 | O2: 46027 | P2: 46034 | Q2: 46041 | R2: 46048
A4: 1 | B4: 0 | D4: 0 | E4: 0 | F4: 0 | G4: 0 | H4: 0 | I4: 0 | K4: 1 | L4: 0 | M4: 0 | N4: 0 | O4: 0 | P4: 0 | Q4: 0 | R4: 0
A5: 2 | B5: 0 | D5: 0 | E5: 0 | F5: 0 | G5: 0 | H5: 0 | I5: 0 | K5: 2 | L5: 0 | M5: 0 | N5: 0 | O5: 0 | P5: 0 | Q5: 0 | R5: 0
A6: 3 | B6: 0 | D6: 0 | E6: 0 | F6: 0 | G6: 0 | H6: 0 | I6: 0 | K6: 3 | L6: 0 | M6: 0 | N6: 0 | O6: 0 | P6: 0 | Q6: 0 | R6: 0
A7: 4 | B7: 0 | D7: 0 | E7: 0 | F7: 0 | G7: 0 | H7: 0 | I7: 0 | K7: 4 | L7: 0 | M7: 0 | N7: 0 | O7: 0 | P7: 0 | Q7: 0 | R7: 0
A8: 5 | B8: 0 | D8: 0 | E8: 0 | F8: 0 | G8: 0 | H8: 0 | I8: 0 | K8: 5 | L8: 0 | M8: 0 | N8: 0 | O8: 0 | P8: 0 | Q8: 0 | R8: 0
A9: 6 | B9: 0 | D9: 0 | E9: 0 | F9: 0 | G9: 0 | H9: 0 | I9: 0 | K9: 6 | L9: 0 | M9: 0 | N9: 0 | O9: 0 | P9: 0 | Q9: 0 | R9: 0
A10: 7 | B10: 0 | D10: 0 | E10: 0 | F10: 0 | G10: 0 | H10: 0 | I10: 0 | K10: 7 | L10: 0 | M10: 0 | N10: 0 | O10: 0 | P10: 0 | Q10: 0 | R10: 0
A11: 8 | B11: 0 | D11: 0 | E11: 0 | F11: 0 | G11: 0 | H11: 0 | I11: 0 | K11: 8 | L11: 0 | M11: 0 | N11: 0 | O11: 0 | P11: 0 | Q11: 0 | R11: 0
A12: 9 | B12: 0 | D12: 0 | E12: 0 | F12: 0 | G12: 0 | H12: 0 | I12: 0 | K12: 9 | L12: 0 | M12: 0 | N12: 0 | O12: 0 | P12: 0 | Q12: 0 | R12: 0
A13: 10 | B13: 0 | D13: 0 | E13: 0 | F13: 0 | G13: 0 | H13: 0 | I13: 0 | K13: 10 | L13: 0 | M13: 0 | N13: 0 | O13: 0 | P13: 0 | Q13: 0 | R13: 0
A14: 11 | B14: 0 | D14: 0 | E14: 0 | F14: 0 | G14: 0 | H14: 0 | I14: 0 | K14: 11 | L14: 0 | M14: 0 | N14: 0 | O14: 0 | P14: 0 | Q14: 0 | R14: 0
A15: 12 | B15: 0 | D15: 0 | E15: 0 | F15: 0 | G15: 0 | H15: 0 | I15: 0 | K15: 12 | L15: 0 | M15: 0 | N15: 0 | O15: 0 | P15: 0 | Q15: 0 | R15: 0
... A18: 15 | B18: 0 | D18: 0 | E18: 0 | F18: 0 | G18: 0 | H18: 0 | I18: 0 | K18: 15 | L18: 0 | M18: 0 | N18: 0 | O18: 0 | P18: 0 | Q18: 0 | R18: 0
A54: G7
A55: 1 | B55: 0 | D55: 0 | E55: 0 | F55: 0 | G55: 0 | H55: 0 | I55: 0
A56: 2 | B56: 0 | D56: 0 | E56: 0 | F56: 0 | G56: 0 | H56: 0 | I56: 0
A57: 3 | B57: 0 | D57: 0 | E57: 0 | F57: 0 | G57: 0 | H57: 0 | I57: 0
A58: 4 | B58: 0 | D58: 0 | E58: 0 | F58: 0 | G58: 0 | H58: 0 | I58: 0
A59: 5 | B59: 0 | D59: 0 | E59: 0 | F59: 0 | G59: 0 | H59: 0 | I59: 0
